BEGIN:VCALENDAR
VERSION:2.0
PRODID:-//Boulder County Horse Association - ECPv6.15.20//NONSGML v1.0//EN
CALSCALE:GREGORIAN
METHOD:PUBLISH
X-ORIGINAL-URL:https://boulderhorse.org
X-WR-CALDESC:Events for Boulder County Horse Association
REFRESH-INTERVAL;VALUE=DURATION:PT1H
X-Robots-Tag:noindex
X-PUBLISHED-TTL:PT1H
BEGIN:VTIMEZONE
TZID:America/Denver
BEGIN:DAYLIGHT
TZOFFSETFROM:-0700
TZOFFSETTO:-0600
TZNAME:MDT
DTSTART:20230312T090000
END:DAYLIGHT
BEGIN:STANDARD
TZOFFSETFROM:-0600
TZOFFSETTO:-0700
TZNAME:MST
DTSTART:20231105T080000
END:STANDARD
BEGIN:DAYLIGHT
TZOFFSETFROM:-0700
TZOFFSETTO:-0600
TZNAME:MDT
DTSTART:20240310T090000
END:DAYLIGHT
BEGIN:STANDARD
TZOFFSETFROM:-0600
TZOFFSETTO:-0700
TZNAME:MST
DTSTART:20241103T080000
END:STANDARD
BEGIN:DAYLIGHT
TZOFFSETFROM:-0700
TZOFFSETTO:-0600
TZNAME:MDT
DTSTART:20250309T090000
END:DAYLIGHT
BEGIN:STANDARD
TZOFFSETFROM:-0600
TZOFFSETTO:-0700
TZNAME:MST
DTSTART:20251102T080000
END:STANDARD
END:VTIMEZONE
BEGIN:VEVENT
DTSTART;TZID=America/Denver:20241008T190000
DTEND;TZID=America/Denver:20241008T203000
DTSTAMP:20260425T205140
CREATED:20241001T155355Z
LAST-MODIFIED:20241001T155558Z
UID:20105-1728414000-1728419400@boulderhorse.org
SUMMARY:BCHA Board Meeting
DESCRIPTION:Members and friends are welcome to join our board meetings. They’re held the 2nd Tuesday of each month from 7-8:30 pm on Zoom. Click on the thumbnail to open the full page and get the Zoom Link HERE. We’d love to see you and hear your ideas!
URL:https://boulderhorse.org/event/bcha-board-meeting-2/
LOCATION:zoom
CATEGORIES:BCHA Events
ATTACH;FMTTYPE=image/png:https://boulderhorse.org/wp-content/uploads/2023/08/BCHA2015Logo-H-90-PX.png
ORGANIZER;CN="Boulder County Horse Association":MAILTO:info@boulderhorse.org
END:VEVENT
END:VCALENDAR