BEGIN:VCALENDAR
VERSION:2.0
PRODID:-//Boulder County Horse Association - ECPv6.15.20//NONSGML v1.0//EN
CALSCALE:GREGORIAN
METHOD:PUBLISH
X-WR-CALNAME:Boulder County Horse Association
X-ORIGINAL-URL:https://boulderhorse.org
X-WR-CALDESC:Events for Boulder County Horse Association
REFRESH-INTERVAL;VALUE=DURATION:PT1H
X-Robots-Tag:noindex
X-PUBLISHED-TTL:PT1H
BEGIN:VTIMEZONE
TZID:America/Denver
BEGIN:DAYLIGHT
TZOFFSETFROM:-0700
TZOFFSETTO:-0600
TZNAME:MDT
DTSTART:20240310T090000
END:DAYLIGHT
BEGIN:STANDARD
TZOFFSETFROM:-0600
TZOFFSETTO:-0700
TZNAME:MST
DTSTART:20241103T080000
END:STANDARD
BEGIN:DAYLIGHT
TZOFFSETFROM:-0700
TZOFFSETTO:-0600
TZNAME:MDT
DTSTART:20250309T090000
END:DAYLIGHT
BEGIN:STANDARD
TZOFFSETFROM:-0600
TZOFFSETTO:-0700
TZNAME:MST
DTSTART:20251102T080000
END:STANDARD
BEGIN:DAYLIGHT
TZOFFSETFROM:-0700
TZOFFSETTO:-0600
TZNAME:MDT
DTSTART:20260308T090000
END:DAYLIGHT
BEGIN:STANDARD
TZOFFSETFROM:-0600
TZOFFSETTO:-0700
TZNAME:MST
DTSTART:20261101T080000
END:STANDARD
END:VTIMEZONE
BEGIN:VEVENT
DTSTART;TZID=America/Denver:20250427T090000
DTEND;TZID=America/Denver:20250427T170000
DTSTAMP:20260425T103721
CREATED:20250204T234454Z
LAST-MODIFIED:20250204T234705Z
UID:20353-1745744400-1745773200@boulderhorse.org
SUMMARY:Equine Health and Emergency First Aid
DESCRIPTION:All-day Equine Emergency First Aid Clinic presented by Open Air Equine. \nCost: $169 \nSign up by emailing Brittany\, Sr. Equi-First Aid USA Instructor at openairequine@gmail.com \n 
URL:https://boulderhorse.org/event/equine-health-and-emergency-first-aid/
LOCATION:Raptor Ridge Equestrian & Hay\, 3756 W County Rd 16\, Loveland\, CO\, 80537
ORGANIZER;CN="Open Air Equine":MAILTO:openairequine@gmail.com
END:VEVENT
BEGIN:VEVENT
DTSTART;TZID=America/Denver:20250427T100000
DTEND;TZID=America/Denver:20250427T133000
DTSTAMP:20260425T103721
CREATED:20250330T164820Z
LAST-MODIFIED:20250330T172224Z
UID:20660-1745748000-1745760600@boulderhorse.org
SUMMARY:Obstacle Clinic at Two Spruce Farm
DESCRIPTION:Build trust and confidence in your horse and your horse in you – on the ground and in the saddle.\nWork with your horse and explore ways to communicate\nin a safe\, supportive and FUN environment. \nTaught by Jessica Dabkowski – $135 \nLIMITED RIDERS PER CLINIC – ALL BREEDS AND DISCIPLINES WELCOME \nPre-Registration Required\, contact Jody at 720-201-4363 or jodymarken@hotmail.com \n 
URL:https://boulderhorse.org/event/obstacle-clinic-at-two-spruce-farm-2/
LOCATION:Two Spruce Farm\, 3714 West County Rd 2\, Berthoud\, Colorado\, 80513
CATEGORIES:Clinics,Educational
ATTACH;FMTTYPE=image/jpeg:https://boulderhorse.org/wp-content/uploads/2024/07/TwoSpruceFarm-logo.jpg
ORGANIZER;CN="Jody Marken":MAILTO:jodymarken@hotmail.com
END:VEVENT
END:VCALENDAR