BEGIN:VCALENDAR
VERSION:2.0
PRODID:-//Boulder County Horse Association - ECPv6.15.20//NONSGML v1.0//EN
CALSCALE:GREGORIAN
METHOD:PUBLISH
X-ORIGINAL-URL:https://boulderhorse.org
X-WR-CALDESC:Events for Boulder County Horse Association
REFRESH-INTERVAL;VALUE=DURATION:PT1H
X-Robots-Tag:noindex
X-PUBLISHED-TTL:PT1H
BEGIN:VTIMEZONE
TZID:America/Denver
BEGIN:DAYLIGHT
TZOFFSETFROM:-0700
TZOFFSETTO:-0600
TZNAME:MDT
DTSTART:20240310T090000
END:DAYLIGHT
BEGIN:STANDARD
TZOFFSETFROM:-0600
TZOFFSETTO:-0700
TZNAME:MST
DTSTART:20241103T080000
END:STANDARD
BEGIN:DAYLIGHT
TZOFFSETFROM:-0700
TZOFFSETTO:-0600
TZNAME:MDT
DTSTART:20250309T090000
END:DAYLIGHT
BEGIN:STANDARD
TZOFFSETFROM:-0600
TZOFFSETTO:-0700
TZNAME:MST
DTSTART:20251102T080000
END:STANDARD
BEGIN:DAYLIGHT
TZOFFSETFROM:-0700
TZOFFSETTO:-0600
TZNAME:MDT
DTSTART:20260308T090000
END:DAYLIGHT
BEGIN:STANDARD
TZOFFSETFROM:-0600
TZOFFSETTO:-0700
TZNAME:MST
DTSTART:20261101T080000
END:STANDARD
END:VTIMEZONE
BEGIN:VEVENT
DTSTART;TZID=America/Denver:20250429T180000
DTEND;TZID=America/Denver:20250429T210000
DTSTAMP:20260425T084858
CREATED:20250305T185622Z
LAST-MODIFIED:20250305T190721Z
UID:20540-1745949600-1745960400@boulderhorse.org
SUMMARY:Annual Member Gathering & Soiree 2025
DESCRIPTION:Join your horse community on Tues April 29th for BCHA’s Annual Gathering & Soiree at Longmont’s historic Altona Grange. Mingle\, make horse connections\, catch up with friends and make new ones while enjoying authentic Mexican fare catered by El Rincon Cucina y Tequila. Meet Dr. Meg Bacon and learn how to recognize signs of pain in your equine companions. Learn more about what’s on the horizon for BCHA in 2025 while mingling with the leaders\, members and friends of one of Colorado’s oldest horse-focused non-profit organizations. \nTICKETS*:\n$35 Early-bird pricing before April 15th\n$45 after April 15th \nAll tickets include an annual BCHA membership–a $25-$50 value
URL:https://boulderhorse.org/event/annual-member-gathering-soiree-2025/
LOCATION:Altona Grange\, 9386 N 39th Street\, Longmont\, Colorado\, 80503
CATEGORIES:BCHA Events,Social
ATTACH;FMTTYPE=image/jpeg:https://boulderhorse.org/wp-content/uploads/2024/03/horse-party.jpg
ORGANIZER;CN="Boulder County Horse Association":MAILTO:info@boulderhorse.org
END:VEVENT
END:VCALENDAR