BEGIN:VCALENDAR
VERSION:2.0
PRODID:-//Boulder County Horse Association - ECPv6.15.20//NONSGML v1.0//EN
CALSCALE:GREGORIAN
METHOD:PUBLISH
X-ORIGINAL-URL:https://boulderhorse.org
X-WR-CALDESC:Events for Boulder County Horse Association
REFRESH-INTERVAL;VALUE=DURATION:PT1H
X-Robots-Tag:noindex
X-PUBLISHED-TTL:PT1H
BEGIN:VTIMEZONE
TZID:America/Denver
BEGIN:DAYLIGHT
TZOFFSETFROM:-0700
TZOFFSETTO:-0600
TZNAME:MDT
DTSTART:20240310T090000
END:DAYLIGHT
BEGIN:STANDARD
TZOFFSETFROM:-0600
TZOFFSETTO:-0700
TZNAME:MST
DTSTART:20241103T080000
END:STANDARD
BEGIN:DAYLIGHT
TZOFFSETFROM:-0700
TZOFFSETTO:-0600
TZNAME:MDT
DTSTART:20250309T090000
END:DAYLIGHT
BEGIN:STANDARD
TZOFFSETFROM:-0600
TZOFFSETTO:-0700
TZNAME:MST
DTSTART:20251102T080000
END:STANDARD
BEGIN:DAYLIGHT
TZOFFSETFROM:-0700
TZOFFSETTO:-0600
TZNAME:MDT
DTSTART:20260308T090000
END:DAYLIGHT
BEGIN:STANDARD
TZOFFSETFROM:-0600
TZOFFSETTO:-0700
TZNAME:MST
DTSTART:20261101T080000
END:STANDARD
END:VTIMEZONE
BEGIN:VEVENT
DTSTART;TZID=America/Denver:20250625T173000
DTEND;TZID=America/Denver:20250625T193000
DTSTAMP:20260424T021851
CREATED:20250616T181245Z
LAST-MODIFIED:20250616T182248Z
UID:20867-1750872600-1750879800@boulderhorse.org
SUMMARY:Social Gathering hosted by Boulder County Horse Association
DESCRIPTION:Let’s talk about all the activities being done with our horses \nfrom arena to trail to clinic.\n\nJoin us at beautiful Little Hawk Ranch to chat about anything you’re excited about–what’s the scoop on clinics\, shows\, trails\, wonderful places where you’re boarding or riding?\nEveryone’s welcome! Michelle Sander is our host and will be providing wine\, beer\, soda and appetizers.\n\nWe’ll play everyone’s favorite game: ‘Say the Secret Word’. If During the course of group conversation\, anyone says the word they win an equine Palm Pro Micro Trimmer by Conair.\n\nWe hope to see you for some spirted horse talk!
URL:https://boulderhorse.org/event/social-gathering-hosted-by-boulder-county-horse-association/
LOCATION:Little Hawk Ranch\, 8922 N 39th Street\, Longmont\, CO\, 80503
CATEGORIES:BCHA Events,Social
ORGANIZER;CN="Boulder County Horse Association":MAILTO:info@boulderhorse.org
END:VEVENT
END:VCALENDAR