BEGIN:VCALENDAR
VERSION:2.0
PRODID:-//Boulder County Horse Association - ECPv6.15.20//NONSGML v1.0//EN
CALSCALE:GREGORIAN
METHOD:PUBLISH
X-WR-CALNAME:Boulder County Horse Association
X-ORIGINAL-URL:https://boulderhorse.org
X-WR-CALDESC:Events for Boulder County Horse Association
REFRESH-INTERVAL;VALUE=DURATION:PT1H
X-Robots-Tag:noindex
X-PUBLISHED-TTL:PT1H
BEGIN:VTIMEZONE
TZID:America/Denver
BEGIN:DAYLIGHT
TZOFFSETFROM:-0700
TZOFFSETTO:-0600
TZNAME:MDT
DTSTART:20250309T090000
END:DAYLIGHT
BEGIN:STANDARD
TZOFFSETFROM:-0600
TZOFFSETTO:-0700
TZNAME:MST
DTSTART:20251102T080000
END:STANDARD
BEGIN:DAYLIGHT
TZOFFSETFROM:-0700
TZOFFSETTO:-0600
TZNAME:MDT
DTSTART:20260308T090000
END:DAYLIGHT
BEGIN:STANDARD
TZOFFSETFROM:-0600
TZOFFSETTO:-0700
TZNAME:MST
DTSTART:20261101T080000
END:STANDARD
BEGIN:DAYLIGHT
TZOFFSETFROM:-0700
TZOFFSETTO:-0600
TZNAME:MDT
DTSTART:20270314T090000
END:DAYLIGHT
BEGIN:STANDARD
TZOFFSETFROM:-0600
TZOFFSETTO:-0700
TZNAME:MST
DTSTART:20271107T080000
END:STANDARD
END:VTIMEZONE
BEGIN:VEVENT
DTSTART;VALUE=DATE:20260110
DTEND;VALUE=DATE:20260126
DTSTAMP:20260423T145757
CREATED:20260107T174214Z
LAST-MODIFIED:20260109T184024Z
UID:21437-1768003200-1769385599@boulderhorse.org
SUMMARY:National Western Stock Show
DESCRIPTION:National Western strives to strengthen American agriculture through enrichment programs and youth education in livestock\, equestrian\, farming\, ranching\, animal awareness\, and appreciation. We celebrate western lifestyles\, our communities\, and provide life-long memories and family traditions. 2026 marks the 120th year and coincides with the grand opening of two new facilities: The Legacy and Sue Anschutz-Rodgers Livestock Center.
URL:https://boulderhorse.org/event/https-nationalwestern-com/
LOCATION:National Western Complex\, 4655 N Humboldt St\, Denver\, CO\, 80216\, United States
CATEGORIES:shows/events
ATTACH;FMTTYPE=image/jpeg:https://boulderhorse.org/wp-content/uploads/2025/01/NWSS-2025-e1767983957427.jpeg
END:VEVENT
END:VCALENDAR