BEGIN:VCALENDAR
VERSION:2.0
PRODID:-//Boulder County Horse Association - ECPv6.15.20//NONSGML v1.0//EN
CALSCALE:GREGORIAN
METHOD:PUBLISH
X-ORIGINAL-URL:https://boulderhorse.org
X-WR-CALDESC:Events for Boulder County Horse Association
REFRESH-INTERVAL;VALUE=DURATION:PT1H
X-Robots-Tag:noindex
X-PUBLISHED-TTL:PT1H
BEGIN:VTIMEZONE
TZID:America/Denver
BEGIN:DAYLIGHT
TZOFFSETFROM:-0700
TZOFFSETTO:-0600
TZNAME:MDT
DTSTART:20250309T090000
END:DAYLIGHT
BEGIN:STANDARD
TZOFFSETFROM:-0600
TZOFFSETTO:-0700
TZNAME:MST
DTSTART:20251102T080000
END:STANDARD
BEGIN:DAYLIGHT
TZOFFSETFROM:-0700
TZOFFSETTO:-0600
TZNAME:MDT
DTSTART:20260308T090000
END:DAYLIGHT
BEGIN:STANDARD
TZOFFSETFROM:-0600
TZOFFSETTO:-0700
TZNAME:MST
DTSTART:20261101T080000
END:STANDARD
BEGIN:DAYLIGHT
TZOFFSETFROM:-0700
TZOFFSETTO:-0600
TZNAME:MDT
DTSTART:20270314T090000
END:DAYLIGHT
BEGIN:STANDARD
TZOFFSETFROM:-0600
TZOFFSETTO:-0700
TZNAME:MST
DTSTART:20271107T080000
END:STANDARD
END:VTIMEZONE
BEGIN:VEVENT
DTSTART;TZID=America/Denver:20260411T140000
DTEND;TZID=America/Denver:20260411T153000
DTSTAMP:20260423T101429
CREATED:20260403T212153Z
LAST-MODIFIED:20260403T212723Z
UID:21641-1775916000-1775921400@boulderhorse.org
SUMMARY:Disaster Preparedness for Equine Facilities Workshop
DESCRIPTION:This free program through CSU Extension will provide horse owners and equine facility managers with the knowledge and tools needed to prepare for and respond to disasters. Participants will learn how to develop emergency plans\, assess risks specific to equine operations (such as wildfire\, flood\, and severe weather)\, and ensure the safety and welfare of horses and people during emergencies. Workshop will be held at Boulder County Fairgrounds Extension Office (see map below). Register HERE.
URL:https://boulderhorse.org/event/disaster-preparedness-for-equine-facilities-workshop/
LOCATION:Boulder County Fairgrounds–Extension Office\, 9595 Nelson Rd\, Longmont\, colorado
CATEGORIES:Educational
ATTACH;FMTTYPE=image/jpeg:https://boulderhorse.org/wp-content/uploads/2024/08/Stone-Canyon-Fire-2024-1.jpg
END:VEVENT
END:VCALENDAR