BEGIN:VCALENDAR
VERSION:2.0
PRODID:-//Boulder County Horse Association - ECPv6.15.20//NONSGML v1.0//EN
CALSCALE:GREGORIAN
METHOD:PUBLISH
X-ORIGINAL-URL:https://boulderhorse.org
X-WR-CALDESC:Events for Boulder County Horse Association
REFRESH-INTERVAL;VALUE=DURATION:PT1H
X-Robots-Tag:noindex
X-PUBLISHED-TTL:PT1H
BEGIN:VTIMEZONE
TZID:America/Denver
BEGIN:DAYLIGHT
TZOFFSETFROM:-0700
TZOFFSETTO:-0600
TZNAME:MDT
DTSTART:20250309T090000
END:DAYLIGHT
BEGIN:STANDARD
TZOFFSETFROM:-0600
TZOFFSETTO:-0700
TZNAME:MST
DTSTART:20251102T080000
END:STANDARD
BEGIN:DAYLIGHT
TZOFFSETFROM:-0700
TZOFFSETTO:-0600
TZNAME:MDT
DTSTART:20260308T090000
END:DAYLIGHT
BEGIN:STANDARD
TZOFFSETFROM:-0600
TZOFFSETTO:-0700
TZNAME:MST
DTSTART:20261101T080000
END:STANDARD
BEGIN:DAYLIGHT
TZOFFSETFROM:-0700
TZOFFSETTO:-0600
TZNAME:MDT
DTSTART:20270314T090000
END:DAYLIGHT
BEGIN:STANDARD
TZOFFSETFROM:-0600
TZOFFSETTO:-0700
TZNAME:MST
DTSTART:20271107T080000
END:STANDARD
END:VTIMEZONE
BEGIN:VEVENT
DTSTART;TZID=America/Denver:20260418T080000
DTEND;TZID=America/Denver:20260418T170000
DTSTAMP:20260423T112049
CREATED:20260319T184621Z
LAST-MODIFIED:20260319T184621Z
UID:21569-1776499200-1776531600@boulderhorse.org
SUMMARY:Legends of Ranching Performance Horse Sale
DESCRIPTION:The Legends of Ranching program is an immersive\, experiential learning model for CSU Equine Sciences students. Through LOR\, students engage directly with equine industry partners\, established ranches\, and consignors while applying natural horsemanship training principles in the colt development process. The nine-month program culminates with this Performance Horse Sale\, held annually at CSU in Fort Collins.
URL:https://boulderhorse.org/event/legends-of-ranching-performance-horse-sale/
LOCATION:Temple Grandin Equine Center\, 725 S Overland Trail\, Fort Collins\, CO\, 80521\, United States
CATEGORIES:shows/events
ATTACH;FMTTYPE=image/png:https://boulderhorse.org/wp-content/uploads/2025/03/CSU-logo.png
END:VEVENT
END:VCALENDAR