BEGIN:VCALENDAR
VERSION:2.0
PRODID:-//Boulder County Horse Association - ECPv6.15.20//NONSGML v1.0//EN
CALSCALE:GREGORIAN
METHOD:PUBLISH
X-WR-CALNAME:Boulder County Horse Association
X-ORIGINAL-URL:https://boulderhorse.org
X-WR-CALDESC:Events for Boulder County Horse Association
REFRESH-INTERVAL;VALUE=DURATION:PT1H
X-Robots-Tag:noindex
X-PUBLISHED-TTL:PT1H
BEGIN:VTIMEZONE
TZID:America/Denver
BEGIN:DAYLIGHT
TZOFFSETFROM:-0700
TZOFFSETTO:-0600
TZNAME:MDT
DTSTART:20250309T090000
END:DAYLIGHT
BEGIN:STANDARD
TZOFFSETFROM:-0600
TZOFFSETTO:-0700
TZNAME:MST
DTSTART:20251102T080000
END:STANDARD
BEGIN:DAYLIGHT
TZOFFSETFROM:-0700
TZOFFSETTO:-0600
TZNAME:MDT
DTSTART:20260308T090000
END:DAYLIGHT
BEGIN:STANDARD
TZOFFSETFROM:-0600
TZOFFSETTO:-0700
TZNAME:MST
DTSTART:20261101T080000
END:STANDARD
BEGIN:DAYLIGHT
TZOFFSETFROM:-0700
TZOFFSETTO:-0600
TZNAME:MDT
DTSTART:20270314T090000
END:DAYLIGHT
BEGIN:STANDARD
TZOFFSETFROM:-0600
TZOFFSETTO:-0700
TZNAME:MST
DTSTART:20271107T080000
END:STANDARD
END:VTIMEZONE
BEGIN:VEVENT
DTSTART;TZID=America/Denver:20260509T100000
DTEND;TZID=America/Denver:20260509T133000
DTSTAMP:20260423T114030
CREATED:20250330T171506Z
LAST-MODIFIED:20260413T174925Z
UID:20680-1778320800-1778333400@boulderhorse.org
SUMMARY:Cow Clinic with Nate Bowers at Two Spruce Farm
DESCRIPTION:Position your horse on the cattle with confidence! \n$185/clinic\, includes cattle charge \nTaught by Nate Bowers \nLIMITED RIDERS PER CLINIC – ALL BREEDS AND DISCIPLINES WELCOME \nPre-Registration Required\, contact Jody at 720-201-4363 or jodymarken@hotmail.com \nCheck out the full schedule with clinics through August 2026 HERE! \n 
URL:https://boulderhorse.org/event/cow-clinic-with-nate-bowers-at-two-spruce-farm/
LOCATION:Two Spruce Farm\, 3714 West County Rd 2\, Berthoud\, Colorado\, 80513
CATEGORIES:Clinics,Educational
ATTACH;FMTTYPE=image/jpeg:https://boulderhorse.org/wp-content/uploads/2024/07/TwoSpruceFarm-logo.jpg
ORGANIZER;CN="Jody Marken":MAILTO:jodymarken@hotmail.com
END:VEVENT
BEGIN:VEVENT
DTSTART;TZID=America/Denver:20260509T100000
DTEND;TZID=America/Denver:20260509T140000
DTSTAMP:20260423T114030
CREATED:20260324T235521Z
LAST-MODIFIED:20260408T000358Z
UID:21633-1778320800-1778335200@boulderhorse.org
SUMMARY:BCHA-Sponsored Educational Event: Horse Packing 101 With Emma Brown
DESCRIPTION:Learn the basics of horse packing in this fun and informative demo-style clinic!   \n• Get hands-on experience with pack horses and tying hitches\n• Learn about pack equipment and it’s purpose\n• Learn about load management and how to secure and tie down different loads\n• Tips and tricks to plan your back country trip by someone who has ‘been there\, done that’ \nEmma Brown is an avid fly fishing guide\, wrangler and packer\, as well as dedicated equestrian and rancher. Her love for providing access to the outdoors to empower voices to the conversation of conservation is an ever growing passion. Fun fact: Emma was instrumental in starting the BCHA Youth Club when she was growing up in Boulder County \nREGISTER HERE
URL:https://boulderhorse.org/event/bcha-sponsored-educational-event-horse-packing-101-with-emma-brown/
LOCATION:Broken Arrow Ranch\, 13609 Gold Hill Road\, Boulder\, 80302
CATEGORIES:Clinics,Educational
ATTACH;FMTTYPE=image/jpeg:https://boulderhorse.org/wp-content/uploads/2026/03/Emma-Brown.jpg
ORGANIZER;CN="Boulder County Horse Association":MAILTO:info@boulderhorse.org
END:VEVENT
END:VCALENDAR