BEGIN:VCALENDAR
VERSION:2.0
PRODID:-//Boulder County Horse Association - ECPv6.15.20//NONSGML v1.0//EN
CALSCALE:GREGORIAN
METHOD:PUBLISH
X-ORIGINAL-URL:https://boulderhorse.org
X-WR-CALDESC:Events for Boulder County Horse Association
REFRESH-INTERVAL;VALUE=DURATION:PT1H
X-Robots-Tag:noindex
X-PUBLISHED-TTL:PT1H
BEGIN:VTIMEZONE
TZID:America/Denver
BEGIN:DAYLIGHT
TZOFFSETFROM:-0700
TZOFFSETTO:-0600
TZNAME:MDT
DTSTART:20240310T090000
END:DAYLIGHT
BEGIN:STANDARD
TZOFFSETFROM:-0600
TZOFFSETTO:-0700
TZNAME:MST
DTSTART:20241103T080000
END:STANDARD
BEGIN:DAYLIGHT
TZOFFSETFROM:-0700
TZOFFSETTO:-0600
TZNAME:MDT
DTSTART:20250309T090000
END:DAYLIGHT
BEGIN:STANDARD
TZOFFSETFROM:-0600
TZOFFSETTO:-0700
TZNAME:MST
DTSTART:20251102T080000
END:STANDARD
BEGIN:DAYLIGHT
TZOFFSETFROM:-0700
TZOFFSETTO:-0600
TZNAME:MDT
DTSTART:20260308T090000
END:DAYLIGHT
BEGIN:STANDARD
TZOFFSETFROM:-0600
TZOFFSETTO:-0700
TZNAME:MST
DTSTART:20261101T080000
END:STANDARD
END:VTIMEZONE
BEGIN:VEVENT
DTSTART;TZID=America/Denver:20250303T180000
DTEND;TZID=America/Denver:20250303T193000
DTSTAMP:20260424T100652
CREATED:20250212T230103Z
LAST-MODIFIED:20250225T183159Z
UID:20360-1741024800-1741030200@boulderhorse.org
SUMMARY:Colorado Equestrian Zone Bill Info Session
DESCRIPTION:Join Jefferson County Horse Council and Community Equestrian for an in-depth discussion of the Equestrian Zone Bill\, which goes to the Colorado State Senate floor for a vote THIS MONTH.  Representatives from all Colorado equine and equestrian groups are strongly encouraged to attend. A livestream of the meeting is available HERE through the Ralston Valley Coalition.\n\n\n\nIf you want to join in person\, just head on down to the Lakewood Library. \n\n\nBackground:\nAs Colorado grows and becomes more urbanized\, and as people’s familiarity with horse behavior decreases\, the possibility increases for roadway accidents like the one that killed the horse Griffin and injured his rider. To help minimize the chance of these types of accidents\, many equestrians have come together to improve roadway and equine safety\, resulting in SB25-149. Primary provisions in the bill include:\n\n\nSafety standards for riders and horses\,\nIdentification of equestrian zones\,\nImproving public awareness of our equestrian heritage and culture\, and\,\nImproving public safety through a pass wide and slow approach for motorists when overtaking equestrians.\n\n\nFind out more about the bill here: https://leg.colorado.gov/bills/sb25-149.\nWrite your legislator here: Find My Legislator | Colorado General Assembly
URL:https://boulderhorse.org/event/colorado-equestrian-protection-bill-info-session/
LOCATION:Livestream: Ralston Valley Coalition
CATEGORIES:Advocacy
END:VEVENT
END:VCALENDAR