BEGIN:VCALENDAR
VERSION:2.0
PRODID:-//Boulder County Horse Association - ECPv6.15.20//NONSGML v1.0//EN
CALSCALE:GREGORIAN
METHOD:PUBLISH
X-ORIGINAL-URL:https://boulderhorse.org
X-WR-CALDESC:Events for Boulder County Horse Association
REFRESH-INTERVAL;VALUE=DURATION:PT1H
X-Robots-Tag:noindex
X-PUBLISHED-TTL:PT1H
BEGIN:VTIMEZONE
TZID:America/Denver
BEGIN:DAYLIGHT
TZOFFSETFROM:-0700
TZOFFSETTO:-0600
TZNAME:MDT
DTSTART:20240310T090000
END:DAYLIGHT
BEGIN:STANDARD
TZOFFSETFROM:-0600
TZOFFSETTO:-0700
TZNAME:MST
DTSTART:20241103T080000
END:STANDARD
BEGIN:DAYLIGHT
TZOFFSETFROM:-0700
TZOFFSETTO:-0600
TZNAME:MDT
DTSTART:20250309T090000
END:DAYLIGHT
BEGIN:STANDARD
TZOFFSETFROM:-0600
TZOFFSETTO:-0700
TZNAME:MST
DTSTART:20251102T080000
END:STANDARD
BEGIN:DAYLIGHT
TZOFFSETFROM:-0700
TZOFFSETTO:-0600
TZNAME:MDT
DTSTART:20260308T090000
END:DAYLIGHT
BEGIN:STANDARD
TZOFFSETFROM:-0600
TZOFFSETTO:-0700
TZNAME:MST
DTSTART:20261101T080000
END:STANDARD
BEGIN:DAYLIGHT
TZOFFSETFROM:-0700
TZOFFSETTO:-0600
TZNAME:MDT
DTSTART:20270314T090000
END:DAYLIGHT
BEGIN:STANDARD
TZOFFSETFROM:-0600
TZOFFSETTO:-0700
TZNAME:MST
DTSTART:20271107T080000
END:STANDARD
END:VTIMEZONE
BEGIN:VEVENT
DTSTART;TZID=America/Denver:20260308T150000
DTEND;TZID=America/Denver:20260308T173000
DTSTAMP:20260423T161723
CREATED:20260228T203322Z
LAST-MODIFIED:20260228T203517Z
UID:21541-1772982000-1772991000@boulderhorse.org
SUMMARY:Throw Away Horses film screening with Colorado Horse Rescue
DESCRIPTION:Colorado Horse Rescue is proud to be featured in Throw Away Horses\, a compelling documentary that sheds light on the realities faced by horses who are abandoned\, neglected\, or discarded. \nThis is a unique opportunity to see CHR’s work in action\, understand the challenges horses face\, and connect with a community of people who care deeply about horse welfare. Follow the link below to reserve your spot for $8. \nAfter the film\, Katherine Gregory\, CEO of Colorado Horse Rescue will host a Q&A so you can find out more about how CHR is working to break the cycle of suffering and make the world a better place for horses.
URL:https://boulderhorse.org/event/throw-away-horses-film-screening-with-chr/
LOCATION:Longmont Museum\, 400 Quail Rd\, Longmont\, CO\, 80501
CATEGORIES:Advocacy,Equine Non Profit
END:VEVENT
BEGIN:VEVENT
DTSTART;TZID=America/Denver:20260112T173000
DTEND;TZID=America/Denver:20260112T193000
DTSTAMP:20260423T161723
CREATED:20260107T182133Z
LAST-MODIFIED:20260107T182151Z
UID:21441-1768239000-1768246200@boulderhorse.org
SUMMARY:City of Boulder OSMP Annual Prairie Dog Management Meeting
DESCRIPTION:The City of Boulder Open Space and Mountain Parks Department will host its annual prairie dog management meeting on Monday\, Jan. 12. Learn about the various topics related to prairie dogs and their management on city-managed open space.
URL:https://boulderhorse.org/event/city-of-boulder-osmp-annual-prairie-dog-management-meeting/
LOCATION:zoom
CATEGORIES:Advocacy,Educational
ATTACH;FMTTYPE=image/jpeg:https://boulderhorse.org/wp-content/uploads/2026/01/prairie-dogs-city-open-space.jpg
END:VEVENT
BEGIN:VEVENT
DTSTART;TZID=America/Denver:20251206T090000
DTEND;TZID=America/Denver:20251206T140000
DTSTAMP:20260423T161723
CREATED:20251010T220509Z
LAST-MODIFIED:20251010T221239Z
UID:21189-1765011600-1765029600@boulderhorse.org
SUMMARY:Healthy Horses\, Healthy Lands Workshop
DESCRIPTION:Whether you manage a few acres or a full equine operation\, this workshop offers practical\, science-based strategies to improve both horse health and land stewardship.\nRegistration Fee: $30 per person (includes lunch and refreshments).\nSpaces are limited\, so register early to reserve your spot!\nRegister HERE\n\nTopics:\n· Poisonous Plants \n· Hay Quality and Nutrition \n· Paddock Paradise Systems \n· Creating Rotational Grazing Plans \n· Biosecurity \n· Emergency Management \n· Body Condition and Evaluation and Hoof Health
URL:https://boulderhorse.org/event/healthy-horses-healthy-lands-workshop/
LOCATION:CSU BW Pickett Arena\, 735 S. Overland Trail\, Fort Collins\, Colorado
CATEGORIES:Advocacy,Educational
ATTACH;FMTTYPE=image/png:https://boulderhorse.org/wp-content/uploads/2025/03/CSU-logo.png
END:VEVENT
BEGIN:VEVENT
DTSTART;TZID=America/Denver:20250303T180000
DTEND;TZID=America/Denver:20250303T193000
DTSTAMP:20260423T161723
CREATED:20250212T230103Z
LAST-MODIFIED:20250225T183159Z
UID:20360-1741024800-1741030200@boulderhorse.org
SUMMARY:Colorado Equestrian Zone Bill Info Session
DESCRIPTION:Join Jefferson County Horse Council and Community Equestrian for an in-depth discussion of the Equestrian Zone Bill\, which goes to the Colorado State Senate floor for a vote THIS MONTH.  Representatives from all Colorado equine and equestrian groups are strongly encouraged to attend. A livestream of the meeting is available HERE through the Ralston Valley Coalition.\n\n\n\nIf you want to join in person\, just head on down to the Lakewood Library. \n\n\nBackground:\nAs Colorado grows and becomes more urbanized\, and as people’s familiarity with horse behavior decreases\, the possibility increases for roadway accidents like the one that killed the horse Griffin and injured his rider. To help minimize the chance of these types of accidents\, many equestrians have come together to improve roadway and equine safety\, resulting in SB25-149. Primary provisions in the bill include:\n\n\nSafety standards for riders and horses\,\nIdentification of equestrian zones\,\nImproving public awareness of our equestrian heritage and culture\, and\,\nImproving public safety through a pass wide and slow approach for motorists when overtaking equestrians.\n\n\nFind out more about the bill here: https://leg.colorado.gov/bills/sb25-149.\nWrite your legislator here: Find My Legislator | Colorado General Assembly
URL:https://boulderhorse.org/event/colorado-equestrian-protection-bill-info-session/
LOCATION:Livestream: Ralston Valley Coalition
CATEGORIES:Advocacy
END:VEVENT
END:VCALENDAR