BEGIN:VCALENDAR
VERSION:2.0
PRODID:-//Boulder County Horse Association - ECPv6.15.20//NONSGML v1.0//EN
CALSCALE:GREGORIAN
METHOD:PUBLISH
X-WR-CALNAME:Boulder County Horse Association
X-ORIGINAL-URL:https://boulderhorse.org
X-WR-CALDESC:Events for Boulder County Horse Association
REFRESH-INTERVAL;VALUE=DURATION:PT1H
X-Robots-Tag:noindex
X-PUBLISHED-TTL:PT1H
BEGIN:VTIMEZONE
TZID:America/Denver
BEGIN:DAYLIGHT
TZOFFSETFROM:-0700
TZOFFSETTO:-0600
TZNAME:MDT
DTSTART:20250309T090000
END:DAYLIGHT
BEGIN:STANDARD
TZOFFSETFROM:-0600
TZOFFSETTO:-0700
TZNAME:MST
DTSTART:20251102T080000
END:STANDARD
BEGIN:DAYLIGHT
TZOFFSETFROM:-0700
TZOFFSETTO:-0600
TZNAME:MDT
DTSTART:20260308T090000
END:DAYLIGHT
BEGIN:STANDARD
TZOFFSETFROM:-0600
TZOFFSETTO:-0700
TZNAME:MST
DTSTART:20261101T080000
END:STANDARD
BEGIN:DAYLIGHT
TZOFFSETFROM:-0700
TZOFFSETTO:-0600
TZNAME:MDT
DTSTART:20270314T090000
END:DAYLIGHT
BEGIN:STANDARD
TZOFFSETFROM:-0600
TZOFFSETTO:-0700
TZNAME:MST
DTSTART:20271107T080000
END:STANDARD
END:VTIMEZONE
BEGIN:VEVENT
DTSTART;TZID=America/Denver:20260627T090000
DTEND;TZID=America/Denver:20260627T123000
DTSTAMP:20260423T142345
CREATED:20260408T190305Z
LAST-MODIFIED:20260408T194445Z
UID:21662-1782550800-1782563400@boulderhorse.org
SUMMARY:BCHA-sponsored educational event: Obstacle Course Play Day With Jody Marken
DESCRIPTION:Build trust and confidence with your horse and yourself — on the ground and in the saddle — through positive\, fun\, and safe communication. All horses and disciplines are welcome\, whether green\, young\, or seasoned. Spend this half-day with your horse at beautiful Two Spruce Farm in Berthoud. Jody’s clinics offer an individualized\, supportive format where you set the pace and level of challenge. It’s not just about the obstacle — it’s about the approach\, the communication\, the try\, and everything in between. \nJody Marken owns and operates Two Spruce Farm\, where she offers horsemanship and groundwork lessons\, jumping instruction\, and clinics aimed at building confident horse-and-rider partnerships. With decades of experience across hunter/jumper\, dressage\, eventing\, and Western disciplines\, Jody is a lifelong student of the horse who continues to grow her practice through ongoing study and mentorship. \n\nmaximum 8 participants\n$85 for BCHA members | $100 for non-members\nREGISTER HERE
URL:https://boulderhorse.org/event/bcha-sponsored-educational-event-obstacle-course-play-day-with-jody-marken/
LOCATION:Two Spruce Farm\, 3714 West County Rd 2\, Berthoud\, Colorado\, 80513
CATEGORIES:BCHA Events,Clinics,Educational
ATTACH;FMTTYPE=image/jpeg:https://boulderhorse.org/wp-content/uploads/2026/04/2-spruce-obstacle-2-e1775674925748.jpeg
ORGANIZER;CN="Boulder County Horse Association":MAILTO:info@boulderhorse.org
END:VEVENT
END:VCALENDAR