BEGIN:VCALENDAR
VERSION:2.0
PRODID:-//Boulder County Horse Association - ECPv6.15.20//NONSGML v1.0//EN
CALSCALE:GREGORIAN
METHOD:PUBLISH
X-ORIGINAL-URL:https://boulderhorse.org
X-WR-CALDESC:Events for Boulder County Horse Association
REFRESH-INTERVAL;VALUE=DURATION:PT1H
X-Robots-Tag:noindex
X-PUBLISHED-TTL:PT1H
BEGIN:VTIMEZONE
TZID:America/Denver
BEGIN:DAYLIGHT
TZOFFSETFROM:-0700
TZOFFSETTO:-0600
TZNAME:MDT
DTSTART:20240310T090000
END:DAYLIGHT
BEGIN:STANDARD
TZOFFSETFROM:-0600
TZOFFSETTO:-0700
TZNAME:MST
DTSTART:20241103T080000
END:STANDARD
BEGIN:DAYLIGHT
TZOFFSETFROM:-0700
TZOFFSETTO:-0600
TZNAME:MDT
DTSTART:20250309T090000
END:DAYLIGHT
BEGIN:STANDARD
TZOFFSETFROM:-0600
TZOFFSETTO:-0700
TZNAME:MST
DTSTART:20251102T080000
END:STANDARD
BEGIN:DAYLIGHT
TZOFFSETFROM:-0700
TZOFFSETTO:-0600
TZNAME:MDT
DTSTART:20260308T090000
END:DAYLIGHT
BEGIN:STANDARD
TZOFFSETFROM:-0600
TZOFFSETTO:-0700
TZNAME:MST
DTSTART:20261101T080000
END:STANDARD
END:VTIMEZONE
BEGIN:VEVENT
DTSTART;TZID=America/Denver:20250416T080000
DTEND;TZID=America/Denver:20250416T180000
DTSTAMP:20260423T161625
CREATED:20250330T144025Z
LAST-MODIFIED:20250404T192852Z
UID:20641-1744790400-1744826400@boulderhorse.org
SUMMARY:Spanish Master Clinician in Dressage & Jumping
DESCRIPTION:Two-day clinic at Cloudview Stables \n8 am – 6 pm Tues April 15th & Wed April 16th \nCost:  \n$125 individual dressage sessions \n$75 per participant in a group jumping session with max 4 riders \nFollow this link for more info & to sign up: https://www.watermelon.to/upride \n 
URL:https://boulderhorse.org/event/catalan-guest-master-clinic-in-dressage-jumping/
LOCATION:Cloudview Stables\, 2097 South 104th\, Broomfield\, Colorado\, 80020
CATEGORIES:Clinics
ATTACH;FMTTYPE=image/jpeg:https://boulderhorse.org/wp-content/uploads/2025/03/Spanish2.jpeg
ORGANIZER;CN="Galina Nicoll":MAILTO:scorers.staples_00@icloud.com
END:VEVENT
BEGIN:VEVENT
DTSTART;TZID=America/Denver:20250415T080000
DTEND;TZID=America/Denver:20250415T180000
DTSTAMP:20260423T161625
CREATED:20250330T153020Z
LAST-MODIFIED:20250404T193017Z
UID:20648-1744704000-1744740000@boulderhorse.org
SUMMARY:Spanish Master Clinician in Dressage & Jumping
DESCRIPTION:Two-day clinic at Cloudview Stables \n8 am – 6 pm Tues April 15th & Wed April 16th \nCost:  \n$125 individual dressage sessions \n$75 per participant in a group jumping session with max 4 riders \nFollow this link for more info & to sign up: https://www.watermelon.to/upride \n 
URL:https://boulderhorse.org/event/spanish-master-clinician-in-dressage-jumping/
LOCATION:Cloudview Stables\, 2097 South 104th\, Broomfield\, Colorado\, 80020
CATEGORIES:Clinics
ATTACH;FMTTYPE=image/jpeg:https://boulderhorse.org/wp-content/uploads/2025/03/Spanish2.jpeg
ORGANIZER;CN="Galina Nicoll":MAILTO:scorers.staples_00@icloud.com
END:VEVENT
END:VCALENDAR