BEGIN:VCALENDAR
VERSION:2.0
PRODID:-//Boulder County Horse Association - ECPv6.15.20//NONSGML v1.0//EN
CALSCALE:GREGORIAN
METHOD:PUBLISH
X-WR-CALNAME:Boulder County Horse Association
X-ORIGINAL-URL:https://boulderhorse.org
X-WR-CALDESC:Events for Boulder County Horse Association
REFRESH-INTERVAL;VALUE=DURATION:PT1H
X-Robots-Tag:noindex
X-PUBLISHED-TTL:PT1H
BEGIN:VTIMEZONE
TZID:America/Denver
BEGIN:DAYLIGHT
TZOFFSETFROM:-0700
TZOFFSETTO:-0600
TZNAME:MDT
DTSTART:20240310T090000
END:DAYLIGHT
BEGIN:STANDARD
TZOFFSETFROM:-0600
TZOFFSETTO:-0700
TZNAME:MST
DTSTART:20241103T080000
END:STANDARD
BEGIN:DAYLIGHT
TZOFFSETFROM:-0700
TZOFFSETTO:-0600
TZNAME:MDT
DTSTART:20250309T090000
END:DAYLIGHT
BEGIN:STANDARD
TZOFFSETFROM:-0600
TZOFFSETTO:-0700
TZNAME:MST
DTSTART:20251102T080000
END:STANDARD
BEGIN:DAYLIGHT
TZOFFSETFROM:-0700
TZOFFSETTO:-0600
TZNAME:MDT
DTSTART:20260308T090000
END:DAYLIGHT
BEGIN:STANDARD
TZOFFSETFROM:-0600
TZOFFSETTO:-0700
TZNAME:MST
DTSTART:20261101T080000
END:STANDARD
END:VTIMEZONE
BEGIN:VEVENT
DTSTART;TZID=America/Denver:20250602T180000
DTEND;TZID=America/Denver:20250602T190000
DTSTAMP:20260424T034326
CREATED:20250522T232736Z
LAST-MODIFIED:20250522T233019Z
UID:20815-1748887200-1748890800@boulderhorse.org
SUMMARY:Tik Maynard at Medicine Horse
DESCRIPTION:Join us for an unforgettable afternoon with acclaimed horseman and author Tik Maynard. This special event is your chance to hear him speak\, ask questions\, and purchase signed copies of his brand-new book\, Starting in the Middle. Don’t miss this inspiring opportunity to connect with a world-renowned voice in horsemanship—surrounded by horses\, healing energy\, and breathtaking mountain views. \nThis is a donation-based event; but advance registration is required! Follow ‘event website’ link to register.
URL:https://boulderhorse.org/event/tik-maynard-at-medicine-horse/
LOCATION:Medicine Horse\, 7663 E County Line Rd\, Longmont\, Colorado\, 80504
CATEGORIES:Educational,Equine Non Profit,Social
ATTACH;FMTTYPE=image/jpeg:https://boulderhorse.org/wp-content/uploads/2024/07/Medicine-Horse-Logo-2.jpg
END:VEVENT
BEGIN:VEVENT
DTSTART;TZID=America/Denver:20250608T090000
DTEND;TZID=America/Denver:20250608T123000
DTSTAMP:20260424T034326
CREATED:20250330T170603Z
LAST-MODIFIED:20250330T171850Z
UID:20673-1749373200-1749385800@boulderhorse.org
SUMMARY:Obstacle Clinic at Two Spruce Farm
DESCRIPTION:Build trust and confidence in your horse and your horse in you – on the ground and in the saddle.\nWork with your horse and explore ways to communicate\nin a safe\, supportive and FUN environment. \nTaught by Jessica Dabkowski – $135 \nLIMITED RIDERS PER CLINIC – ALL BREEDS AND DISCIPLINES WELCOME \nPre-Registration Required\, contact Jody at 720-201-4363 or jodymarken@hotmail.com \nCheck out the full schedule with clinics through August 2025 here: 2025TSFclinicflyer.pdf
URL:https://boulderhorse.org/event/obstacle-clinic-at-two-spruce-farm-7/
LOCATION:Two Spruce Farm\, 3714 West County Rd 2\, Berthoud\, Colorado\, 80513
CATEGORIES:Clinics,Educational
ATTACH;FMTTYPE=image/jpeg:https://boulderhorse.org/wp-content/uploads/2024/07/TwoSpruceFarm-logo.jpg
ORGANIZER;CN="Jody Marken":MAILTO:jodymarken@hotmail.com
END:VEVENT
BEGIN:VEVENT
DTSTART;VALUE=DATE:20250614
DTEND;VALUE=DATE:20250616
DTSTAMP:20260424T034326
CREATED:20250513T165113Z
LAST-MODIFIED:20250513T170328Z
UID:20777-1749859200-1750031999@boulderhorse.org
SUMMARY:Sporting Day of Traditional Driving
DESCRIPTION:A fun and educational day celebrating carriages\, horses and the lifestyle of traditional driving. \nCompetitors must be members of the Colorado Driving Society. Entries are due by June 4th. The event is open to horses\, mules and ponies.  Erik and Mary Jensen of Thistle Hill Farm have been hosting this event since 2004.
URL:https://boulderhorse.org/event/sporting-day-of-traditional-driving/
LOCATION:Thistle Hill Farm\, 2072 Summit Street\, Franktown\, Colorado\, 80116
CATEGORIES:Educational,shows/events
ATTACH;FMTTYPE=image/png:https://boulderhorse.org/wp-content/uploads/2025/05/traditional-day-of-driving-event.png
END:VEVENT
BEGIN:VEVENT
DTSTART;TZID=America/Denver:20250614T090000
DTEND;TZID=America/Denver:20250614T120000
DTSTAMP:20260424T034326
CREATED:20250519T195318Z
LAST-MODIFIED:20250519T195318Z
UID:20794-1749891600-1749902400@boulderhorse.org
SUMMARY:Horse and Bike Trailhead Event
DESCRIPTION:Stop on by to visit with our horse ambassadors and learn about safely sharing our local trails with horses. Whatever your mode of recreation or experience with horses\, BCHA Trails Advisor Randy Winter will help you feel comfortable and savvy about best practices for sharing trails with horses.
URL:https://boulderhorse.org/event/horse-and-bike-trailhead-event/
LOCATION:Boulder Valley Ranch City of Boulder OSMP
CATEGORIES:BCHA Events,Educational
ATTACH;FMTTYPE=image/jpeg:https://boulderhorse.org/wp-content/uploads/2025/05/Randy-trail-event.jpeg
ORGANIZER;CN="Boulder County Horse Association":MAILTO:info@boulderhorse.org
END:VEVENT
BEGIN:VEVENT
DTSTART;TZID=America/Denver:20250620T120000
DTEND;TZID=America/Denver:20250620T130000
DTSTAMP:20260424T034326
CREATED:20250324T230748Z
LAST-MODIFIED:20250324T231553Z
UID:20608-1750420800-1750424400@boulderhorse.org
SUMMARY:CSU Extension Small Acreage Management Free Webinar: Water\, Irrigation\, and More
DESCRIPTION:Eric Hammond\, County Director and Horticulture Specialist with Boulder County brings us this FREE hour-long webinar on Zoom.
URL:https://boulderhorse.org/event/free-webinar-soils-for-small-acreages/
LOCATION:zoom
CATEGORIES:Educational
END:VEVENT
BEGIN:VEVENT
DTSTART;TZID=America/Denver:20250621T090000
DTEND;TZID=America/Denver:20250621T123000
DTSTAMP:20260424T034326
CREATED:20250330T170743Z
LAST-MODIFIED:20250330T171818Z
UID:20675-1750496400-1750509000@boulderhorse.org
SUMMARY:Obstacle Clinic at Two Spruce Farm
DESCRIPTION:Build trust and confidence in your horse and your horse in you – on the ground and in the saddle.\nWork with your horse and explore ways to communicate\nin a safe\, supportive and FUN environment. \nTaught by Kristi Plutt – $135 \nLIMITED RIDERS PER CLINIC – ALL BREEDS AND DISCIPLINES WELCOME \nPre-Registration Required\, contact Jody at 720-201-4363 or jodymarken@hotmail.com \nCheck out the full schedule with clinics through August 2025 here: 2025TSFclinicflyer.pdf \n 
URL:https://boulderhorse.org/event/obstacle-clinic-at-two-spruce-farm-8/
LOCATION:Two Spruce Farm\, 3714 West County Rd 2\, Berthoud\, Colorado\, 80513
CATEGORIES:Clinics,Educational
ATTACH;FMTTYPE=image/jpeg:https://boulderhorse.org/wp-content/uploads/2024/07/TwoSpruceFarm-logo.jpg
ORGANIZER;CN="Jody Marken":MAILTO:jodymarken@hotmail.com
END:VEVENT
BEGIN:VEVENT
DTSTART;TZID=America/Denver:20250622T090000
DTEND;TZID=America/Denver:20250622T123000
DTSTAMP:20260424T034326
CREATED:20250330T171018Z
LAST-MODIFIED:20250330T171720Z
UID:20678-1750582800-1750595400@boulderhorse.org
SUMMARY:Obstacle Clinic at Two Spruce Farm
DESCRIPTION:Build trust and confidence in your horse and your horse in you – on the ground and in the saddle.\nWork with your horse and explore ways to communicate\nin a safe\, supportive and FUN environment. \nTaught by Jessica Dabkowski-$135 \nLIMITED RIDERS PER CLINIC – ALL BREEDS AND DISCIPLINES WELCOME \nPre-Registration Required\, contact Jody at 720-201-4363 or jodymarken@hotmail.com \nCheck out the full schedule with clinics through August 2025 here: 2025TSFclinicflyer.pdf \n 
URL:https://boulderhorse.org/event/obstacle-clinic-at-two-spruce-farm-9/
LOCATION:Two Spruce Farm\, 3714 West County Rd 2\, Berthoud\, Colorado\, 80513
CATEGORIES:Clinics,Educational
ATTACH;FMTTYPE=image/jpeg:https://boulderhorse.org/wp-content/uploads/2024/07/TwoSpruceFarm-logo.jpg
ORGANIZER;CN="Jody Marken":MAILTO:jodymarken@hotmail.com
END:VEVENT
END:VCALENDAR