BEGIN:VCALENDAR
VERSION:2.0
PRODID:-//Boulder County Horse Association - ECPv6.15.20//NONSGML v1.0//EN
CALSCALE:GREGORIAN
METHOD:PUBLISH
X-ORIGINAL-URL:https://boulderhorse.org
X-WR-CALDESC:Events for Boulder County Horse Association
REFRESH-INTERVAL;VALUE=DURATION:PT1H
X-Robots-Tag:noindex
X-PUBLISHED-TTL:PT1H
BEGIN:VTIMEZONE
TZID:America/Denver
BEGIN:DAYLIGHT
TZOFFSETFROM:-0700
TZOFFSETTO:-0600
TZNAME:MDT
DTSTART:20240310T090000
END:DAYLIGHT
BEGIN:STANDARD
TZOFFSETFROM:-0600
TZOFFSETTO:-0700
TZNAME:MST
DTSTART:20241103T080000
END:STANDARD
BEGIN:DAYLIGHT
TZOFFSETFROM:-0700
TZOFFSETTO:-0600
TZNAME:MDT
DTSTART:20250309T090000
END:DAYLIGHT
BEGIN:STANDARD
TZOFFSETFROM:-0600
TZOFFSETTO:-0700
TZNAME:MST
DTSTART:20251102T080000
END:STANDARD
BEGIN:DAYLIGHT
TZOFFSETFROM:-0700
TZOFFSETTO:-0600
TZNAME:MDT
DTSTART:20260308T090000
END:DAYLIGHT
BEGIN:STANDARD
TZOFFSETFROM:-0600
TZOFFSETTO:-0700
TZNAME:MST
DTSTART:20261101T080000
END:STANDARD
END:VTIMEZONE
BEGIN:VEVENT
DTSTART;TZID=America/Denver:20250817T090000
DTEND;TZID=America/Denver:20250817T120000
DTSTAMP:20260424T004351
CREATED:20250519T200214Z
LAST-MODIFIED:20250519T200214Z
UID:20806-1755421200-1755432000@boulderhorse.org
SUMMARY:Horse and Bike Trailhead Event--Wonderland Lake
DESCRIPTION:Stop on by to visit with our horse ambassadors and learn about safely sharing our local trails with horses. Whatever your mode of recreation or experience with horses\, BCHA Trails Advisor Randy Winter will help you feel comfortable and savvy about best practices for sharing trails with horses.
URL:https://boulderhorse.org/event/horse-and-bike-trailhead-event-wonderland-lake/
LOCATION:Wonderland Lake City of Boulder OSMP
CATEGORIES:BCHA Events,Educational
ATTACH;FMTTYPE=image/jpeg:https://boulderhorse.org/wp-content/uploads/2025/05/Randy-trail-event.jpeg
ORGANIZER;CN="Boulder County Horse Association":MAILTO:info@boulderhorse.org
END:VEVENT
BEGIN:VEVENT
DTSTART;TZID=America/Denver:20250822T120000
DTEND;TZID=America/Denver:20250822T130000
DTSTAMP:20260424T004351
CREATED:20250324T232457Z
LAST-MODIFIED:20250324T232457Z
UID:20622-1755864000-1755867600@boulderhorse.org
SUMMARY:CSU Extension Small Acreage Management Free Webinar: Fall Weed Management
DESCRIPTION:Joe Swanson\, Boulder County Weed Control Supervisor brings us this FREE hour-long webinar on Zoom.
URL:https://boulderhorse.org/event/csu-extension-small-acreage-management-free-webinar-fall-weed-management/
LOCATION:zoom
CATEGORIES:Educational
END:VEVENT
BEGIN:VEVENT
DTSTART;TZID=America/Denver:20250823T093000
DTEND;TZID=America/Denver:20250823T120000
DTSTAMP:20260424T004351
CREATED:20250724T164452Z
LAST-MODIFIED:20250724T165654Z
UID:20925-1755941400-1755950400@boulderhorse.org
SUMMARY:Equine Wellness Clinic at Medicine Horse
DESCRIPTION:Hosted by Front Range Equine Performance\, Rehabilitation and Urgent Care. Led by Dr. Marianne and her team\, this clinic is perfect for horse owners\, caretakers and equine enthusiasts looking to expand their knowledge of equine health and performance. Cost is $35 \nMore info and tickets HERE
URL:https://boulderhorse.org/event/equine-wellness-clinic/
LOCATION:Medicine Horse\, 7663 E County Line Rd\, Longmont\, Colorado\, 80504
CATEGORIES:Clinics,Educational
ATTACH;FMTTYPE=image/jpeg:https://boulderhorse.org/wp-content/uploads/2024/07/Medicine-Horse-Logo-2.jpg
END:VEVENT
END:VCALENDAR