BEGIN:VCALENDAR
VERSION:2.0
PRODID:-//Boulder County Horse Association - ECPv6.15.20//NONSGML v1.0//EN
CALSCALE:GREGORIAN
METHOD:PUBLISH
X-ORIGINAL-URL:https://boulderhorse.org
X-WR-CALDESC:Events for Boulder County Horse Association
REFRESH-INTERVAL;VALUE=DURATION:PT1H
X-Robots-Tag:noindex
X-PUBLISHED-TTL:PT1H
BEGIN:VTIMEZONE
TZID:America/Denver
BEGIN:DAYLIGHT
TZOFFSETFROM:-0700
TZOFFSETTO:-0600
TZNAME:MDT
DTSTART:20240310T090000
END:DAYLIGHT
BEGIN:STANDARD
TZOFFSETFROM:-0600
TZOFFSETTO:-0700
TZNAME:MST
DTSTART:20241103T080000
END:STANDARD
BEGIN:DAYLIGHT
TZOFFSETFROM:-0700
TZOFFSETTO:-0600
TZNAME:MDT
DTSTART:20250309T090000
END:DAYLIGHT
BEGIN:STANDARD
TZOFFSETFROM:-0600
TZOFFSETTO:-0700
TZNAME:MST
DTSTART:20251102T080000
END:STANDARD
BEGIN:DAYLIGHT
TZOFFSETFROM:-0700
TZOFFSETTO:-0600
TZNAME:MDT
DTSTART:20260308T090000
END:DAYLIGHT
BEGIN:STANDARD
TZOFFSETFROM:-0600
TZOFFSETTO:-0700
TZNAME:MST
DTSTART:20261101T080000
END:STANDARD
END:VTIMEZONE
BEGIN:VEVENT
DTSTART;TZID=America/Denver:20250523T120000
DTEND;TZID=America/Denver:20250523T130000
DTSTAMP:20260424T071008
CREATED:20250330T163053Z
LAST-MODIFIED:20250330T163139Z
UID:20653-1748001600-1748005200@boulderhorse.org
SUMMARY:CSU Extension Small Acreage Management Free Webinar: Understanding Your Soils
DESCRIPTION:Carley Rohrbaugh\, Ag and Natural Resources Specialist with Adams County brings us this FREE hour-long webinar on Zoom all about understanding your soils.
URL:https://boulderhorse.org/event/csu-extension-small-acreage-management-free-webinar-understanding-your-soils/
LOCATION:zoom
CATEGORIES:Educational
ATTACH;FMTTYPE=image/png:https://boulderhorse.org/wp-content/uploads/2025/03/CSU-logo.png
END:VEVENT
END:VCALENDAR