BEGIN:VCALENDAR
VERSION:2.0
PRODID:-//Boulder County Horse Association - ECPv6.15.20//NONSGML v1.0//EN
CALSCALE:GREGORIAN
METHOD:PUBLISH
X-ORIGINAL-URL:https://boulderhorse.org
X-WR-CALDESC:Events for Boulder County Horse Association
REFRESH-INTERVAL;VALUE=DURATION:PT1H
X-Robots-Tag:noindex
X-PUBLISHED-TTL:PT1H
BEGIN:VTIMEZONE
TZID:America/Denver
BEGIN:DAYLIGHT
TZOFFSETFROM:-0700
TZOFFSETTO:-0600
TZNAME:MDT
DTSTART:20240310T090000
END:DAYLIGHT
BEGIN:STANDARD
TZOFFSETFROM:-0600
TZOFFSETTO:-0700
TZNAME:MST
DTSTART:20241103T080000
END:STANDARD
BEGIN:DAYLIGHT
TZOFFSETFROM:-0700
TZOFFSETTO:-0600
TZNAME:MDT
DTSTART:20250309T090000
END:DAYLIGHT
BEGIN:STANDARD
TZOFFSETFROM:-0600
TZOFFSETTO:-0700
TZNAME:MST
DTSTART:20251102T080000
END:STANDARD
BEGIN:DAYLIGHT
TZOFFSETFROM:-0700
TZOFFSETTO:-0600
TZNAME:MDT
DTSTART:20260308T090000
END:DAYLIGHT
BEGIN:STANDARD
TZOFFSETFROM:-0600
TZOFFSETTO:-0700
TZNAME:MST
DTSTART:20261101T080000
END:STANDARD
END:VTIMEZONE
BEGIN:VEVENT
DTSTART;TZID=America/Denver:20251002T150000
DTEND;TZID=America/Denver:20251002T170000
DTSTAMP:20260423T225519
CREATED:20250923T201551Z
LAST-MODIFIED:20250923T201807Z
UID:21176-1759417200-1759424400@boulderhorse.org
SUMMARY:CSU Extension Small Acreage Management Fall Grass Workshop
DESCRIPTION:Join the Small Acreage Management Specialists to learn about grass growth and defoliation\, native and introduced grass species\, and key ideas to identify them. In person ($12) or just the final hour\, free on Zoom.
URL:https://boulderhorse.org/event/csu-extension-small-acreage-management-fall-grass-workshop/
LOCATION:Boulder County Fairgrounds–Extension Office\, 9595 Nelson Rd\, Longmont\, colorado
CATEGORIES:Educational
END:VEVENT
END:VCALENDAR