BEGIN:VCALENDAR
VERSION:2.0
PRODID:-//Boulder County Horse Association - ECPv6.15.20//NONSGML v1.0//EN
CALSCALE:GREGORIAN
METHOD:PUBLISH
X-WR-CALNAME:Boulder County Horse Association
X-ORIGINAL-URL:https://boulderhorse.org
X-WR-CALDESC:Events for Boulder County Horse Association
REFRESH-INTERVAL;VALUE=DURATION:PT1H
X-Robots-Tag:noindex
X-PUBLISHED-TTL:PT1H
BEGIN:VTIMEZONE
TZID:America/Denver
BEGIN:DAYLIGHT
TZOFFSETFROM:-0700
TZOFFSETTO:-0600
TZNAME:MDT
DTSTART:20250309T090000
END:DAYLIGHT
BEGIN:STANDARD
TZOFFSETFROM:-0600
TZOFFSETTO:-0700
TZNAME:MST
DTSTART:20251102T080000
END:STANDARD
BEGIN:DAYLIGHT
TZOFFSETFROM:-0700
TZOFFSETTO:-0600
TZNAME:MDT
DTSTART:20260308T090000
END:DAYLIGHT
BEGIN:STANDARD
TZOFFSETFROM:-0600
TZOFFSETTO:-0700
TZNAME:MST
DTSTART:20261101T080000
END:STANDARD
BEGIN:DAYLIGHT
TZOFFSETFROM:-0700
TZOFFSETTO:-0600
TZNAME:MDT
DTSTART:20270314T090000
END:DAYLIGHT
BEGIN:STANDARD
TZOFFSETFROM:-0600
TZOFFSETTO:-0700
TZNAME:MST
DTSTART:20271107T080000
END:STANDARD
END:VTIMEZONE
BEGIN:VEVENT
DTSTART;TZID=America/Denver:20260512T190000
DTEND;TZID=America/Denver:20260512T203000
DTSTAMP:20260423T163143
CREATED:20260321T213252Z
LAST-MODIFIED:20260324T234618Z
UID:21582-1778612400-1778617800@boulderhorse.org
SUMMARY:BCHA Monthly Board Meeting on Google Meet
DESCRIPTION:BCHA members and interested community members are welcome to join in on our board meetings. We usually meet online the 2nd Tuesday of each month from 7-8:30 pm. We will set aside the first 10-20 minutes for connecting\, socializing and catching up\, so be sure to get on the call on the early side. Click HERE for the Google Meet link.
URL:https://boulderhorse.org/event/bcha-monthly-board-meeting-on-google-meet/
LOCATION:Google Meet
CATEGORIES:BCHA Events
ATTACH;FMTTYPE=image/png:https://boulderhorse.org/wp-content/uploads/2023/03/logo.png
ORGANIZER;CN="Boulder County Horse Association":MAILTO:info@boulderhorse.org
END:VEVENT
BEGIN:VEVENT
DTSTART;TZID=America/Denver:20260516T100000
DTEND;TZID=America/Denver:20260516T133000
DTSTAMP:20260423T163143
CREATED:20260413T174634Z
LAST-MODIFIED:20260413T174645Z
UID:21700-1778925600-1778938200@boulderhorse.org
SUMMARY:Obstacle Clinic at Two Spruce Farm with Jessica Dabkowski
DESCRIPTION:Build trust and confidence in your horse and your horse in you – on the ground and in the saddle.\nWork with your horse and explore ways to communicate\nin a safe\, supportive and FUN environment. \nTaught by Jessica Dabkowski – $135 \nLIMITED RIDERS PER CLINIC – ALL BREEDS AND DISCIPLINES WELCOME \nPre-Registration Required\, contact Jody at 720-201-4363 or jodymarken@hotmail.com \nCheck out the full schedule with clinics through August 2026 HERE! \n 
URL:https://boulderhorse.org/event/obstacle-clinic-at-two-spruce-farm-with-jessica-dabkowski/
LOCATION:Two Spruce Farm\, 3714 West County Rd 2\, Berthoud\, Colorado\, 80513
CATEGORIES:Clinics,Educational
ATTACH;FMTTYPE=image/jpeg:https://boulderhorse.org/wp-content/uploads/2024/07/TwoSpruceFarm-logo.jpg
ORGANIZER;CN="Jody Marken":MAILTO:jodymarken@hotmail.com
END:VEVENT
BEGIN:VEVENT
DTSTART;TZID=America/Denver:20260517T100000
DTEND;TZID=America/Denver:20260517T133000
DTSTAMP:20260423T163143
CREATED:20260413T174451Z
LAST-MODIFIED:20260413T174451Z
UID:21698-1779012000-1779024600@boulderhorse.org
SUMMARY:Obstacle Clinic at Two Spruce Farm with Amy LeSatz
DESCRIPTION:Build trust and confidence in your horse and your horse in you – on the ground and in the saddle.\nWork with your horse and explore ways to communicate\nin a safe\, supportive and FUN environment. \nTaught by Amy LeSatz – $135 \nLIMITED RIDERS PER CLINIC – ALL BREEDS AND DISCIPLINES WELCOME \nPre-Registration Required\, contact Jody at 720-201-4363 or jodymarken@hotmail.com \nCheck out the full schedule with clinics through August 2026 HERE! \n 
URL:https://boulderhorse.org/event/obstacle-clinic-at-two-spruce-farm-with-amy-lesatz-2/
LOCATION:Two Spruce Farm\, 3714 West County Rd 2\, Berthoud\, Colorado\, 80513
CATEGORIES:Clinics,Educational
ATTACH;FMTTYPE=image/jpeg:https://boulderhorse.org/wp-content/uploads/2024/07/TwoSpruceFarm-logo.jpg
ORGANIZER;CN="Jody Marken":MAILTO:jodymarken@hotmail.com
END:VEVENT
BEGIN:VEVENT
DTSTART;TZID=America/Denver:20260523T100000
DTEND;TZID=America/Denver:20260523T133000
DTSTAMP:20260423T163143
CREATED:20250330T172836Z
LAST-MODIFIED:20260413T175105Z
UID:20691-1779530400-1779543000@boulderhorse.org
SUMMARY:Cow Clinic (level 2) with Nate Bowers at Two Spruce Farm
DESCRIPTION:Position your horse on the cattle with confidence! \n$185/clinic\, includes cattle charge \nTaught by Nate Bowers \nPre-Registration Required\, contact Jody at 720-201-4363 or jodymarken@hotmail.com \nCheck out the full schedule with clinics through August 2026 HERE!
URL:https://boulderhorse.org/event/cow-clinic-with-nate-bowers-at-two-spruce-farm-2/
LOCATION:Two Spruce Farm\, 3714 West County Rd 2\, Berthoud\, Colorado\, 80513
CATEGORIES:Clinics
ATTACH;FMTTYPE=image/jpeg:https://boulderhorse.org/wp-content/uploads/2024/07/TwoSpruceFarm-logo.jpg
ORGANIZER;CN="Jody Marken":MAILTO:jodymarken@hotmail.com
END:VEVENT
BEGIN:VEVENT
DTSTART;TZID=America/Denver:20260524T100000
DTEND;TZID=America/Denver:20260524T123000
DTSTAMP:20260423T163143
CREATED:20250330T173804Z
LAST-MODIFIED:20260413T173923Z
UID:20699-1779616800-1779625800@boulderhorse.org
SUMMARY:Ground Pole Patterns Clinic at Two Spruce Farm
DESCRIPTION:Fun patterns for you and your horse! \n$85 \nLIMITED RIDERS PER CLINIC – ALL BREEDS AND DISCIPLINES WELCOME \nPre-Registration Required\, contact Jody at 720-201-4363 or jodymarken@hotmail.com \nCheck out the full schedule with clinics through August 2026 HERE!
URL:https://boulderhorse.org/event/ground-pole-patterns-clinic-at-two-spruce-farm-2/
LOCATION:Two Spruce Farm\, 3714 West County Rd 2\, Berthoud\, Colorado\, 80513
CATEGORIES:Clinics
ATTACH;FMTTYPE=image/jpeg:https://boulderhorse.org/wp-content/uploads/2024/07/TwoSpruceFarm-logo.jpg
ORGANIZER;CN="Jody Marken":MAILTO:jodymarken@hotmail.com
END:VEVENT
BEGIN:VEVENT
DTSTART;TZID=America/Denver:20260530T100000
DTEND;TZID=America/Denver:20260530T140000
DTSTAMP:20260423T163143
CREATED:20260319T185518Z
LAST-MODIFIED:20260408T000621Z
UID:21574-1780135200-1780149600@boulderhorse.org
SUMMARY:BCHA-sponsored educational event: Balance Through Movement Method™ with Chiara Poscente
DESCRIPTION:Through classroom lecture\, live demonstrations and discussion\, participants will learn how movement\, posture\, and biomechanics influence soundness\, behavior\, and performance. Chiara will share practical insights into recognizing restrictions\, supporting healthy movement\, and developing a deeper understanding of your horse’s body—offering a fresh perspective on how horses move\, feel\, and learn. \nBTMM is a revolutionary approach to training\, centered around the development of the body to prevent and alleviate suspected nerve compressions\, and solve undiagnosed lameness and behavior issues in all disciplines of riding. This restorative training system is designed specifically to empower equestrians\, making bodywork\, biomechanics education and mindful horsemanship simple and accessible to anyone\, no matter their experience level. \nREGISTER HERE
URL:https://boulderhorse.org/event/bcha-sponsored-educational-event-balance-through-movement-method-with-chiara-poscente/
LOCATION:Little Hawk Ranch\, 8922 N 39th Street\, Longmont\, CO\, 80503
CATEGORIES:BCHA Events,Clinics,Educational
ATTACH;FMTTYPE=image/jpeg:https://boulderhorse.org/wp-content/uploads/2026/03/Chiara-Poscente.jpg
ORGANIZER;CN="Boulder County Horse Association":MAILTO:info@boulderhorse.org
END:VEVENT
BEGIN:VEVENT
DTSTART;TZID=America/Denver:20260606T170000
DTEND;TZID=America/Denver:20260606T210000
DTSTAMP:20260423T163143
CREATED:20260311T024224Z
LAST-MODIFIED:20260311T024350Z
UID:21559-1780765200-1780779600@boulderhorse.org
SUMMARY:Legends of The West CTRC Fundraiser
DESCRIPTION:On June 6th\, 2026\, CTRC will celebrate 46 years of changing lives in the community as a 501(c)(3) nonprofit by hosting the Legends of the West Gala Fundraiser at the popular entertainment venue Nissi’s in Lafayette. This iconic venue will host 175-200 guests from across the Front Range\, all coming together to support individuals with disabilities through equine-assisted activities. The event will offer premier and standard seating options\, with corporate tables featured in the premier area. \nPurchase tickets HERE
URL:https://boulderhorse.org/event/legends-of-the-west-ctrc-fundraiser/
LOCATION:Nissi’s\, 1455 Coal Creek Dr. Unit T\, Lafayette\, Colorado\, 80026
CATEGORIES:Equine Non Profit
ATTACH;FMTTYPE=image/png:https://boulderhorse.org/wp-content/uploads/2024/03/CTRC-logo.png
END:VEVENT
BEGIN:VEVENT
DTSTART;TZID=America/Denver:20260627T090000
DTEND;TZID=America/Denver:20260627T123000
DTSTAMP:20260423T163143
CREATED:20260408T190305Z
LAST-MODIFIED:20260408T194445Z
UID:21662-1782550800-1782563400@boulderhorse.org
SUMMARY:BCHA-sponsored educational event: Obstacle Course Play Day With Jody Marken
DESCRIPTION:Build trust and confidence with your horse and yourself — on the ground and in the saddle — through positive\, fun\, and safe communication. All horses and disciplines are welcome\, whether green\, young\, or seasoned. Spend this half-day with your horse at beautiful Two Spruce Farm in Berthoud. Jody’s clinics offer an individualized\, supportive format where you set the pace and level of challenge. It’s not just about the obstacle — it’s about the approach\, the communication\, the try\, and everything in between. \nJody Marken owns and operates Two Spruce Farm\, where she offers horsemanship and groundwork lessons\, jumping instruction\, and clinics aimed at building confident horse-and-rider partnerships. With decades of experience across hunter/jumper\, dressage\, eventing\, and Western disciplines\, Jody is a lifelong student of the horse who continues to grow her practice through ongoing study and mentorship. \n\nmaximum 8 participants\n$85 for BCHA members | $100 for non-members\nREGISTER HERE
URL:https://boulderhorse.org/event/bcha-sponsored-educational-event-obstacle-course-play-day-with-jody-marken/
LOCATION:Two Spruce Farm\, 3714 West County Rd 2\, Berthoud\, Colorado\, 80513
CATEGORIES:BCHA Events,Clinics,Educational
ATTACH;FMTTYPE=image/jpeg:https://boulderhorse.org/wp-content/uploads/2026/04/2-spruce-obstacle-2-e1775674925748.jpeg
ORGANIZER;CN="Boulder County Horse Association":MAILTO:info@boulderhorse.org
END:VEVENT
END:VCALENDAR