BEGIN:VCALENDAR
VERSION:2.0
PRODID:-//Boulder County Horse Association - ECPv6.15.20//NONSGML v1.0//EN
CALSCALE:GREGORIAN
METHOD:PUBLISH
X-WR-CALNAME:Boulder County Horse Association
X-ORIGINAL-URL:https://boulderhorse.org
X-WR-CALDESC:Events for Boulder County Horse Association
REFRESH-INTERVAL;VALUE=DURATION:PT1H
X-Robots-Tag:noindex
X-PUBLISHED-TTL:PT1H
BEGIN:VTIMEZONE
TZID:America/Denver
BEGIN:DAYLIGHT
TZOFFSETFROM:-0700
TZOFFSETTO:-0600
TZNAME:MDT
DTSTART:20220313T090000
END:DAYLIGHT
BEGIN:STANDARD
TZOFFSETFROM:-0600
TZOFFSETTO:-0700
TZNAME:MST
DTSTART:20221106T080000
END:STANDARD
BEGIN:DAYLIGHT
TZOFFSETFROM:-0700
TZOFFSETTO:-0600
TZNAME:MDT
DTSTART:20230312T090000
END:DAYLIGHT
BEGIN:STANDARD
TZOFFSETFROM:-0600
TZOFFSETTO:-0700
TZNAME:MST
DTSTART:20231105T080000
END:STANDARD
BEGIN:DAYLIGHT
TZOFFSETFROM:-0700
TZOFFSETTO:-0600
TZNAME:MDT
DTSTART:20240310T090000
END:DAYLIGHT
BEGIN:STANDARD
TZOFFSETFROM:-0600
TZOFFSETTO:-0700
TZNAME:MST
DTSTART:20241103T080000
END:STANDARD
BEGIN:DAYLIGHT
TZOFFSETFROM:-0700
TZOFFSETTO:-0600
TZNAME:MDT
DTSTART:20250309T090000
END:DAYLIGHT
BEGIN:STANDARD
TZOFFSETFROM:-0600
TZOFFSETTO:-0700
TZNAME:MST
DTSTART:20251102T080000
END:STANDARD
END:VTIMEZONE
BEGIN:VEVENT
DTSTART;TZID=America/Denver:20241026T160000
DTEND;TZID=America/Denver:20241026T180000
DTSTAMP:20260424T092945
CREATED:20241008T165104Z
LAST-MODIFIED:20241008T165152Z
UID:20124-1729958400-1729965600@boulderhorse.org
SUMMARY:Medicine Horse: Fall Festival
DESCRIPTION:Join us for our Fall Festival on October 26th from 4-6 PM! \nWhat to expect: \n\nPumpkin Carving & Face Painting\nHorse Oracle Card Readings\nTrick-or-treating with our horses\nEnter to win our raffle items! (on-site only)\n\nand more!\n\n\n\nAdults (Ages 17+) = $25.00 \nKids (16 or younger) = Free (donations welcome!) \nAdults and kids are encouraged to dress up in their favorite costumes! \nInfo and Tickets Click Here
URL:https://boulderhorse.org/event/medicine-horse-fall-festival/
LOCATION:Medicine Horse\, 7663 E County Line Rd\, Longmont\, Colorado\, 80504
END:VEVENT
BEGIN:VEVENT
DTSTART;TZID=America/Denver:20241020T090000
DTEND;TZID=America/Denver:20241020T170000
DTSTAMP:20260424T092945
CREATED:20240118T023152Z
LAST-MODIFIED:20240919T013543Z
UID:2972-1729414800-1729443600@boulderhorse.org
SUMMARY:BCHA Annual Fun Show 2024
DESCRIPTION:$7 per class or $5 if you pre-register by Oct 17th!\nBCHA members get three FREE classes!\nDownload the registration and showbill HERE! \nclick the event link on the calendar to access the event details \nThis fun event brings equestrians and horse lovers together from Boulder County and nearby front range communities. It’s a relaxed and entertaining day of equestrian classes and games. And don’t miss the wildly popular pre-Halloween costume class where horse and rider dress to impress!
URL:https://boulderhorse.org/event/bcha-annual-fun-show-2024/
LOCATION:Boulder County Fairgrounds\, 9595 Nelson Road\, Longmont\, CO\, 80302\, United States
ATTACH;FMTTYPE=image/jpeg:https://boulderhorse.org/wp-content/uploads/2023/08/IMG_0925.jpg
ORGANIZER;CN="Boulder County Horse Association":MAILTO:info@boulderhorse.org
END:VEVENT
BEGIN:VEVENT
DTSTART;TZID=America/Denver:20241020T090000
DTEND;TZID=America/Denver:20241020T120000
DTSTAMP:20260424T092945
CREATED:20241017T173804Z
LAST-MODIFIED:20241017T191228Z
UID:20168-1729414800-1729425600@boulderhorse.org
SUMMARY:Education/Outreach: Safety When Passing Horses on Trail
DESCRIPTION:Boulder County Open Space and Boulder County Horse Association representatives along with horse ambassadors Ellie and Walker will be at the Lagerman Agricultural Preserve\, Sunday\, Oct. 20th\, from 9AM to Noon to talk to all trail users about safety when passing horses on trail.
URL:https://boulderhorse.org/event/education-outreach-event-on-oct-20th-lagerman-preserve-9-12/
LOCATION:Lagerman Preserve
CATEGORIES:BCHA Events
ATTACH;FMTTYPE=image/png:https://boulderhorse.org/wp-content/uploads/2024/01/BCPOS-logo.png
ORGANIZER;CN="Boulder County Horse Association":MAILTO:info@boulderhorse.org
END:VEVENT
BEGIN:VEVENT
DTSTART;TZID=America/Denver:20241008T190000
DTEND;TZID=America/Denver:20241008T203000
DTSTAMP:20260424T092945
CREATED:20241001T155355Z
LAST-MODIFIED:20241001T155558Z
UID:20105-1728414000-1728419400@boulderhorse.org
SUMMARY:BCHA Board Meeting
DESCRIPTION:Members and friends are welcome to join our board meetings. They’re held the 2nd Tuesday of each month from 7-8:30 pm on Zoom. Click on the thumbnail to open the full page and get the Zoom Link HERE. We’d love to see you and hear your ideas!
URL:https://boulderhorse.org/event/bcha-board-meeting-2/
LOCATION:zoom
CATEGORIES:BCHA Events
ATTACH;FMTTYPE=image/png:https://boulderhorse.org/wp-content/uploads/2023/08/BCHA2015Logo-H-90-PX.png
ORGANIZER;CN="Boulder County Horse Association":MAILTO:info@boulderhorse.org
END:VEVENT
BEGIN:VEVENT
DTSTART;TZID=America/Denver:20240921T170000
DTEND;TZID=America/Denver:20240921T210000
DTSTAMP:20260424T092945
CREATED:20240726T202218Z
LAST-MODIFIED:20240726T205348Z
UID:18842-1726938000-1726952400@boulderhorse.org
SUMMARY:CHR: Mane Event at the Ranch
DESCRIPTION:
URL:https://boulderhorse.org/event/mane-event-at-the-ranch/
LOCATION:Colorado Horse Rescue\, 10386N.65thStreet\, Longmont\, CO\, 80503
CATEGORIES:Equine Non Profit
ATTACH;FMTTYPE=image/png:https://boulderhorse.org/wp-content/uploads/2024/07/CHR-Mane-Event-9-21-24.png
END:VEVENT
BEGIN:VEVENT
DTSTART;TZID=America/Denver:20240824T090000
DTEND;TZID=America/Denver:20240824T170000
DTSTAMP:20260424T092945
CREATED:20240726T210304Z
LAST-MODIFIED:20240726T210530Z
UID:18854-1724490000-1724518800@boulderhorse.org
SUMMARY:Equine Health & Emergency First Aid Clinic
DESCRIPTION:Stabilize your horse in an emergency \n$159 per student \nClinic will be held in Fort Collins
URL:https://boulderhorse.org/event/equine-health-emergency-first-aid-clinic/
LOCATION:CO
CATEGORIES:Business members
ORGANIZER;CN="Open Air Equine":MAILTO:openairequine@gmail.com
END:VEVENT
BEGIN:VEVENT
DTSTART;TZID=America/Denver:20240807T080000
DTEND;TZID=America/Denver:20240811T170000
DTSTAMP:20260424T092945
CREATED:20240726T210917Z
LAST-MODIFIED:20240726T210917Z
UID:18857-1723017600-1723395600@boulderhorse.org
SUMMARY:Boulder County Fair
DESCRIPTION:
URL:https://boulderhorse.org/event/boulder-county-fair/
LOCATION:Boulder County Fairgrounds\, 9595 Nelson Road\, Longmont\, CO\, 80302\, United States
CATEGORIES:Equine Non Profit,Youth
END:VEVENT
BEGIN:VEVENT
DTSTART;TZID=America/Denver:20240801T080000
DTEND;TZID=America/Denver:20240804T170000
DTSTAMP:20260424T092945
CREATED:20240726T211248Z
LAST-MODIFIED:20240726T211248Z
UID:18859-1722499200-1722790800@boulderhorse.org
SUMMARY:4-H and FFA Horse Show
DESCRIPTION:
URL:https://boulderhorse.org/event/4-h-and-ffa-horse-show/
LOCATION:Boulder County Fairgrounds\, 9595 Nelson Road\, Longmont\, CO\, 80302\, United States
CATEGORIES:Equine Non Profit,Youth
END:VEVENT
BEGIN:VEVENT
DTSTART;TZID=America/Denver:20240522T173000
DTEND;TZID=America/Denver:20240522T193000
DTSTAMP:20260424T092945
CREATED:20240320T142100Z
LAST-MODIFIED:20240320T143706Z
UID:18561-1716399000-1716406200@boulderhorse.org
SUMMARY:After Hours Social & Potluck at CTRC
DESCRIPTION:Mingle with BCHA members and friends along with staff and volunteers from \nColorado Therapeutic Riding Center \nLearn about CTRC’s mission and vision\nLearn how horses can and do change the lives of the people with disabilities that CTRC serves\nObserve a class * Tour the facility\nGet to know some of the amazing team that make it all possible\nEnjoy a potluck dinner\nBeverages will be provided by BCHA\n\nSign up & bring something to share for the potluck:\nPlease enable JavaScript in your browser to complete this form.Name *FirstLastEmail *I plan to bring:Submit  \n\nDetails:\nPlease arrive on time to observe the class which begins at 5:30\n\nDress for the weather. We will be inside to eat but the tour will take us outside. Think waterproof shoes you don’t mind getting muddy! \n 
URL:https://boulderhorse.org/event/after-hours-social-potluck-at-ctrc/
LOCATION:Coloroado Therapeutic Riding Center\, 11968 Mineral Rd\, Longmont\, CO\, 80504
CATEGORIES:BCHA Events,Social
ORGANIZER;CN="Boulder County Horse Association":MAILTO:info@boulderhorse.org
END:VEVENT
BEGIN:VEVENT
DTSTART;TZID=America/Denver:20240224T100000
DTEND;TZID=America/Denver:20240224T140000
DTSTAMP:20260424T092945
CREATED:20240207T195231Z
LAST-MODIFIED:20240207T200636Z
UID:3323-1708768800-1708783200@boulderhorse.org
SUMMARY:Boulder County 4-H Horse Leader's Council Annual Tack Sale
DESCRIPTION:
URL:https://boulderhorse.org/event/boulder-county-4-h-horse-leaders-council-annual-tack-sale/
LOCATION:Boulder County Fairgrounds Exhibit Building\, 9595 Nelson Road\, Longmont\, CO
CATEGORIES:Youth
ORGANIZER;CN="Boulder County 4-H Horse Leader's Council":MAILTO:bocobeck4h@gmail.com
END:VEVENT
BEGIN:VEVENT
DTSTART;VALUE=DATE:20231014
DTEND;VALUE=DATE:20231016
DTSTAMP:20260424T092945
CREATED:20230621T103857Z
LAST-MODIFIED:20240118T025713Z
UID:1667-1697306400-1697392799@boulderhorse.org
SUMMARY:BCHA Annual Fun Show 2023
DESCRIPTION:Join us on Sunday October 15th 2023\nfor the annual BCHA Fun Show!\n9 AM – 5 pm at the\nBoulder County Fairgrounds indoor arena\n9595 Nelson Rd\, Longmont\n$7 per class or $5 if you pre-register by Oct 14th!\nBCHA members get three FREE classes!\nDownload the registration and showbill HERE! \nThis fun event brings equestrians and horse lovers together from Boulder County and nearby front range communities. It’s a relaxed and entertaining day of equestrian classes and games. And don’t miss the wildly popular pre-Halloween costume class where horse and rider dress to impress!
URL:https://boulderhorse.org/event/bcha-annual-fun-show/
LOCATION:Boulder County Fairgrounds\, 9595 Nelson Road\, Longmont\, CO\, 80302\, United States
END:VEVENT
BEGIN:VEVENT
DTSTART;TZID=America/Denver:20230824T120000
DTEND;TZID=America/Denver:20230824T140000
DTSTAMP:20260424T092945
CREATED:20230711T021838Z
LAST-MODIFIED:20240118T025737Z
UID:1683-1692878400-1692885600@boulderhorse.org
SUMMARY:Annual Member Gathering 2023
DESCRIPTION:Join Boulder County’s horse community for our annual gathering! This fun evening will be held at the historic Altona Grange. We are pleased to host Elizabeth Riecks of Wildsong Ranch as our guest speaker.\n Mingle and make connections\, catch up with friends and make new ones while enjoying food from local food trucks on-site. This event is open to all!\nAre you a newcomer to Boulder’s horse community\, or just like horses and want to learn more? Thinking about joining BCHA? Interested in BCHA volunteer opportunities? This year’s Annual Gathering is the perfect place to find out more about what we do. It also gives you the opportunity to meet others in the Boulder County horse community.
URL:https://boulderhorse.org/event/annual-member-gathering/
LOCATION:Altona Grange\, 9386 N 39th Street\, Longmont\, Colorado\, 80503
ORGANIZER;CN="Boulder County Horse Association":MAILTO:info@boulderhorse.org
END:VEVENT
BEGIN:VEVENT
DTSTART;TZID=America/Denver:20230202T190000
DTEND;TZID=America/Denver:20230202T203000
DTSTAMP:20260424T092945
CREATED:20240118T023622Z
LAST-MODIFIED:20240118T025657Z
UID:2974-1675364400-1675369800@boulderhorse.org
SUMMARY:BCHA Board Meeting
DESCRIPTION:BCHA members welcome to join our board meetings. First Tuesday of each month 7-8:30 on zoom.
URL:https://boulderhorse.org/event/bcha-board-meeting/
LOCATION:zoom
ORGANIZER;CN="Boulder County Horse Association":MAILTO:info@boulderhorse.org
END:VEVENT
END:VCALENDAR