BEGIN:VCALENDAR
VERSION:2.0
PRODID:-//Boulder County Horse Association - ECPv6.15.20//NONSGML v1.0//EN
CALSCALE:GREGORIAN
METHOD:PUBLISH
X-WR-CALNAME:Boulder County Horse Association
X-ORIGINAL-URL:https://boulderhorse.org
X-WR-CALDESC:Events for Boulder County Horse Association
REFRESH-INTERVAL;VALUE=DURATION:PT1H
X-Robots-Tag:noindex
X-PUBLISHED-TTL:PT1H
BEGIN:VTIMEZONE
TZID:America/Denver
BEGIN:DAYLIGHT
TZOFFSETFROM:-0700
TZOFFSETTO:-0600
TZNAME:MDT
DTSTART:20240310T090000
END:DAYLIGHT
BEGIN:STANDARD
TZOFFSETFROM:-0600
TZOFFSETTO:-0700
TZNAME:MST
DTSTART:20241103T080000
END:STANDARD
BEGIN:DAYLIGHT
TZOFFSETFROM:-0700
TZOFFSETTO:-0600
TZNAME:MDT
DTSTART:20250309T090000
END:DAYLIGHT
BEGIN:STANDARD
TZOFFSETFROM:-0600
TZOFFSETTO:-0700
TZNAME:MST
DTSTART:20251102T080000
END:STANDARD
BEGIN:DAYLIGHT
TZOFFSETFROM:-0700
TZOFFSETTO:-0600
TZNAME:MDT
DTSTART:20260308T090000
END:DAYLIGHT
BEGIN:STANDARD
TZOFFSETFROM:-0600
TZOFFSETTO:-0700
TZNAME:MST
DTSTART:20261101T080000
END:STANDARD
END:VTIMEZONE
BEGIN:VEVENT
DTSTART;TZID=America/Denver:20250501T090000
DTEND;TZID=America/Denver:20250501T090000
DTSTAMP:20260424T021756
CREATED:20250408T173229Z
LAST-MODIFIED:20250408T173229Z
UID:20732-1746090000-1746090000@boulderhorse.org
SUMMARY:Boulder County Commissioners Meeting--public comment on Fairgrounds open riding
DESCRIPTION:After 25+ years of historic use of the Boulder County Fairgrounds Indoor Arena for horse riding during the winter months\, it has been cancelled. This was a change recommended by the Boulder County Parks and Open Space Advisory Committee to the County Commissioners. Area equestrians are coordinating to attend the May 1st County Commissioners meeting. Follow links below to sign up to provide your comments or simply show your support.
URL:https://boulderhorse.org/event/boulder-county-commissioners-meeting-public-comment-on-fairgrounds-open-riding/
LOCATION:Boulder County Courthouse\, 1325 Pearl St\, Boulder\, Colorado
CATEGORIES:Educational,Equine Non Profit,Youth
ATTACH;FMTTYPE=image/jpeg:https://boulderhorse.org/wp-content/uploads/2024/11/Boulder-County-Fairgrounds.jpg
ORGANIZER;CN="Boulder County Commissioners":MAILTO:commissioners@bouldercounty.gov
END:VEVENT
BEGIN:VEVENT
DTSTART;TZID=America/Denver:20250504T100000
DTEND;TZID=America/Denver:20250504T133000
DTSTAMP:20260424T021756
CREATED:20250330T165851Z
LAST-MODIFIED:20250330T172026Z
UID:20667-1746352800-1746365400@boulderhorse.org
SUMMARY:Obstacle Clinic at Two Spruce Farm
DESCRIPTION:Build trust and confidence in your horse and your horse in you – on the ground and in the saddle.\nWork with your horse and explore ways to communicate\nin a safe\, supportive and FUN environment. \nTaught by Jessica Dabkowski – $135 \nLIMITED RIDERS PER CLINIC – ALL BREEDS AND DISCIPLINES WELCOME \nPre-Registration Required\, contact Jody at 720-201-4363 or jodymarken@hotmail.com \nCheck out the full schedule with clinics through August 2025 here: 2025TSFclinicflyer.pdf \n 
URL:https://boulderhorse.org/event/obstacle-clinic-at-two-spruce-farm-4/
LOCATION:Two Spruce Farm\, 3714 West County Rd 2\, Berthoud\, Colorado\, 80513
CATEGORIES:Clinics,Educational
ATTACH;FMTTYPE=image/jpeg:https://boulderhorse.org/wp-content/uploads/2024/07/TwoSpruceFarm-logo.jpg
ORGANIZER;CN="Jody Marken":MAILTO:jodymarken@hotmail.com
END:VEVENT
BEGIN:VEVENT
DTSTART;TZID=America/Denver:20250517T100000
DTEND;TZID=America/Denver:20250517T133000
DTSTAMP:20260424T021756
CREATED:20250330T170222Z
LAST-MODIFIED:20250330T171950Z
UID:20669-1747476000-1747488600@boulderhorse.org
SUMMARY:Obstacle Clinic at Two Spruce Farm
DESCRIPTION:Build trust and confidence in your horse and your horse in you – on the ground and in the saddle.\nWork with your horse and explore ways to communicate\nin a safe\, supportive and FUN environment. \nTaught by Amy LeSatz – $135 \nLIMITED RIDERS PER CLINIC – ALL BREEDS AND DISCIPLINES WELCOME \nPre-Registration Required\, contact Jody at 720-201-4363 or jodymarken@hotmail.com \nCheck out the full schedule with clinics through August 2025 here: 2025TSFclinicflyer.pdf
URL:https://boulderhorse.org/event/obstacle-clinic-at-two-spruce-farm-5/
LOCATION:Two Spruce Farm\, 3714 West County Rd 2\, Berthoud\, Colorado\, 80513
CATEGORIES:Clinics,Educational
ATTACH;FMTTYPE=image/jpeg:https://boulderhorse.org/wp-content/uploads/2024/07/TwoSpruceFarm-logo.jpg
ORGANIZER;CN="Jody Marken":MAILTO:jodymarken@hotmail.com
END:VEVENT
BEGIN:VEVENT
DTSTART;TZID=America/Denver:20250518T100000
DTEND;TZID=America/Denver:20250518T133000
DTSTAMP:20260424T021756
CREATED:20250330T170405Z
LAST-MODIFIED:20250330T171918Z
UID:20671-1747562400-1747575000@boulderhorse.org
SUMMARY:Obstacle Clinic at Two Spruce Farm
DESCRIPTION:Build trust and confidence in your horse and your horse in you – on the ground and in the saddle.\nWork with your horse and explore ways to communicate\nin a safe\, supportive and FUN environment. \nTaught by Jessica Dabkowski – $135 \nLIMITED RIDERS PER CLINIC – ALL BREEDS AND DISCIPLINES WELCOME \nPre-Registration Required\, contact Jody at 720-201-4363 or jodymarken@hotmail.com \nCheck out the full schedule with clinics through August 2025 here: 2025TSFclinicflyer.pdf \n 
URL:https://boulderhorse.org/event/obstacle-clinic-at-two-spruce-farm-6/
LOCATION:Two Spruce Farm\, 3714 West County Rd 2\, Berthoud\, Colorado\, 80513
CATEGORIES:Clinics,Educational
ATTACH;FMTTYPE=image/jpeg:https://boulderhorse.org/wp-content/uploads/2024/07/TwoSpruceFarm-logo.jpg
ORGANIZER;CN="Jody Marken":MAILTO:jodymarken@hotmail.com
END:VEVENT
BEGIN:VEVENT
DTSTART;TZID=America/Denver:20250523T120000
DTEND;TZID=America/Denver:20250523T130000
DTSTAMP:20260424T021756
CREATED:20250330T163053Z
LAST-MODIFIED:20250330T163139Z
UID:20653-1748001600-1748005200@boulderhorse.org
SUMMARY:CSU Extension Small Acreage Management Free Webinar: Understanding Your Soils
DESCRIPTION:Carley Rohrbaugh\, Ag and Natural Resources Specialist with Adams County brings us this FREE hour-long webinar on Zoom all about understanding your soils.
URL:https://boulderhorse.org/event/csu-extension-small-acreage-management-free-webinar-understanding-your-soils/
LOCATION:zoom
CATEGORIES:Educational
ATTACH;FMTTYPE=image/png:https://boulderhorse.org/wp-content/uploads/2025/03/CSU-logo.png
END:VEVENT
BEGIN:VEVENT
DTSTART;TZID=America/Denver:20250524T090000
DTEND;TZID=America/Denver:20250524T120000
DTSTAMP:20260424T021756
CREATED:20250513T182815Z
LAST-MODIFIED:20250519T194712Z
UID:20785-1748077200-1748088000@boulderhorse.org
SUMMARY:Horse and Bike Trailhead Event
DESCRIPTION:Stop on by to visit with our horse ambassadors and learn about safely sharing our local trails with horses. Whatever your mode of recreation or experience with horses\, BCHA Trails Advisor Randy Winter will help you feel comfortable and savvy about best practices for sharing trails with horses.
URL:https://boulderhorse.org/event/horse-and-bike-trail-event/
LOCATION:Lagerman Preserve
CATEGORIES:BCHA Events,Educational
ATTACH;FMTTYPE=image/jpeg:https://boulderhorse.org/wp-content/uploads/2025/05/Randy-trail-event.jpeg
ORGANIZER;CN="Boulder County Horse Association":MAILTO:info@boulderhorse.org
END:VEVENT
BEGIN:VEVENT
DTSTART;TZID=America/Denver:20250524T130000
DTEND;TZID=America/Denver:20250524T150000
DTSTAMP:20260424T021756
CREATED:20250324T153002Z
LAST-MODIFIED:20250324T153848Z
UID:20587-1748091600-1748098800@boulderhorse.org
SUMMARY:TTouch Clinic at Medicine Horse with Tracy Vroom
DESCRIPTION:Discover the Tellington TTouch Method–a gentle\, hands-on approach that promotes relaxation\, confidence\, and positive behavior in animals. This introductory clinic will cover the basics of TTouch bodywork and ground exercises. Cost is $35 and all proceeds go directly towards scholarships at Medicine Horse for families in need.
URL:https://boulderhorse.org/event/ttouch-clinic-at-medicine-horse-with-tracy-vroom/
LOCATION:Medicine Horse\, 7663 E County Line Rd\, Longmont\, Colorado\, 80504
CATEGORIES:Equine Non Profit
ATTACH;FMTTYPE=image/jpeg:https://boulderhorse.org/wp-content/uploads/2024/07/Medicine-Horse-Logo-2.jpg
END:VEVENT
BEGIN:VEVENT
DTSTART;TZID=America/Denver:20250529T090000
DTEND;TZID=America/Denver:20250530T170000
DTSTAMP:20260424T021756
CREATED:20241121T185449Z
LAST-MODIFIED:20241121T185449Z
UID:20231-1748509200-1748624400@boulderhorse.org
SUMMARY:Cowboy Dressage Youth and Rookie Clinic
DESCRIPTION:Contact \nCorinne Schindler; 720.232.6421 \nCost: $100 \n4338 N 109th St\nLafayette\, CO 80026 \n  \n 
URL:https://boulderhorse.org/event/cowboy-dressage-youth-and-rookie-clinic/
LOCATION:Colorado
END:VEVENT
END:VCALENDAR